BEGIN:VCALENDAR
VERSION:2.0
PRODID:-//ChamberMaster//Event Calendar 2.0//EN
METHOD:PUBLISH
X-PUBLISHED-TTL:P3D
REFRESH-INTERVAL:P3D
CALSCALE:GREGORIAN
BEGIN:VEVENT
DTSTART:20200625T230000Z
DTEND:20200626T000000Z
X-MICROSOFT-CDO-ALLDAYEVENT:FALSE
SUMMARY:Yoga with Leah - 6/25/2020
DESCRIPTION:Stressed? Craving a moment of mindfulness? Take a FREE outdoor yoga class with Leah on the front lawn of Heritage at Clara Barton - weather permitting.
X-ALT-DESC;FMTTYPE=text/html:<span style="color: rgb(29\, 33\, 41)\; font-family: system-ui\, -apple-system\, system-ui\, &quot\;.SFNSText-Regular&quot\;\, sans-serif\; font-size: 14px\; white-space: pre-wrap\;">Stressed? Craving a moment of mindfulness? Take a FREE outdoor yoga class with Leah on the front lawn of Heritage at Clara Barton - weather permitting.</span>
LOCATION:Heritage at Clara Barton 1015 Amboy Ave\, Edison\, NJ
UID:e.2325.3368
SEQUENCE:3
DTSTAMP:20260421T184746Z
URL:https://www.edisonchamber.com/events/details/yoga-with-leah-6-25-2020-3368
END:VEVENT

END:VCALENDAR
