BEGIN:VCALENDAR
VERSION:2.0
PRODID:-//ChamberMaster//Event Calendar 2.0//EN
METHOD:PUBLISH
X-PUBLISHED-TTL:P3D
REFRESH-INTERVAL:P3D
CALSCALE:GREGORIAN
BEGIN:VEVENT
DTSTART:20200611T130000Z
DTEND:20200611T141500Z
X-MICROSOFT-CDO-ALLDAYEVENT:FALSE
SUMMARY:Virtual Networking with The Edison and Woodbridge Chamber of Commerce - 6/11/2020
DESCRIPTION:Join the Edison Chamber of Commerce and The Woodbridge Metro Chamber of Commerce for the safest way to network now - virtually! Meet\, speak\, learn\, and grow personally and professionally. This was an amazing event last week - and we had such a good response we are doing it again! \n\n\n\nAfter you register you will receive the Zoom log in info via email.
X-ALT-DESC;FMTTYPE=text/html:<span style="font-size:16px\;"><span style="font-family:tahoma\;"><span font-size:="" style="color: rgb(28\, 30\, 33)\; font-family: system-ui\, -apple-system\, system-ui\, ">Join the Edison Chamber of Commerce and The Woodbridge Metro Chamber of Commerce for the safest way to network now - virtually! Meet\, speak\, learn\, and grow personally and professionally. This was an amazing event last week - and we had such a good response we are doing it again!&nbsp\;</span><br />\n<br />\nAfter you register you will receive the Zoom log in info via email.</span></span>
LOCATION:Virtual Zoom
UID:e.2325.3367
SEQUENCE:3
DTSTAMP:20260421T190451Z
URL:https://www.edisonchamber.com/events/details/virtual-networking-with-the-edison-and-woodbridge-chamber-of-commerce-6-11-2020-3367
END:VEVENT

END:VCALENDAR
