BEGIN:VCALENDAR
VERSION:2.0
PRODID:-//ChamberMaster//Event Calendar 2.0//EN
METHOD:PUBLISH
X-PUBLISHED-TTL:P3D
REFRESH-INTERVAL:P3D
CALSCALE:GREGORIAN
BEGIN:VEVENT
DTSTART:20200612T180000Z
DTEND:20200612T190000Z
X-MICROSOFT-CDO-ALLDAYEVENT:FALSE
SUMMARY:Virtual Networking - Preparing for Outdoor Dining - 6/12/2020
DESCRIPTION:Are you a local business or restaurant preparing to reopen on the 15th? Sign up for our Zoom networking event Friday\, June 12 at 2:00 pm\, where our guest speaker will be Jay Elliot\, Director\, Edison Department of Health & Human Services. He will talk about "Reopening in Edison" what is required of businesses and what you can do to make sure your employees and customers are safe\; as well as ensure you understand how to implement the new protocols.\n\n\n\nGuest Speaker: Jay Elliot\, Director\, Edison Department of Health & Human Services\n\n\n\nAfter you register you will receive the Zoom log-in info via email.
X-ALT-DESC;FMTTYPE=text/html:<span style="font-size:18px\;"><span style="font-family:tahoma\;"><span apple="" color="" droid="" fira="" font-size:="" helvetica="" lucida="" oxygen="" segoe="" style="color: rgba(0\, 0\, 0\, 0.9)\; font-family: -apple-system\, system-ui\, system-ui\, " ui="">Are you a local business or restaurant preparing to reopen on the 15th? Sign up for our Zoom networking event Friday\, June 12 at 2:00 pm\, where our guest speaker will be Jay Elliot\, Director\, Edison Department of Health &amp\; Human Services. He will talk about &quot\;Reopening in Edison&quot\; what is required of businesses and what you can do to make sure your employees and customers are safe\; as well as ensure you understand how to implement the new protocols.</span></span><br />\n<br />\n<span style="font-family:tahoma\;"><strong>Guest Speaker:</strong>&nbsp\;Jay Elliot\, Director\, Edison Department of Health &amp\; Human Services<br />\n<br />\nAfter you register you will receive the Zoom log-in info via email.</span></span>
LOCATION:Virtual Zoom
UID:e.2325.3366
SEQUENCE:3
DTSTAMP:20260421T185511Z
URL:https://www.edisonchamber.com/events/details/virtual-networking-preparing-for-outdoor-dining-6-12-2020-3366
END:VEVENT

END:VCALENDAR
