BEGIN:VCALENDAR
VERSION:2.0
PRODID:-//ChamberMaster//Event Calendar 2.0//EN
METHOD:PUBLISH
X-PUBLISHED-TTL:P3D
REFRESH-INTERVAL:P3D
CALSCALE:GREGORIAN
BEGIN:VEVENT
DTSTART:20200528T130000Z
DTEND:20200528T140000Z
X-MICROSOFT-CDO-ALLDAYEVENT:FALSE
SUMMARY:Virtual Networking - 5/28/2020
DESCRIPTION:The Edison Chamber of Commerce will be hosting a zoom meeting to give the business community the opportunity to safely network while the COVID-19 pandemic continues.\n\n\n\nGuest Speaker: Dr. Joe Hudak who will speak on goal setting.\n\n\n\nAfter you register you will receive the Zoom log in info via email.
X-ALT-DESC;FMTTYPE=text/html:<span style="font-family:tahoma\;"><span style="font-size:16px\;"><span style="text-align: center\; white-space: pre-wrap\;">The Edison Chamber of Commerce will be hosting a zoom meeting to give the business community the opportunity to safely network while the COVID-19 pandemic continues.</span><br />\n<br />\n<strong>Guest Speaker:</strong> Dr. Joe Hudak who will speak on goal setting.<br />\n<br />\nAfter you register you will receive the Zoom log in info via email.</span></span>
LOCATION:Virtual Zoom
UID:e.2325.3354
SEQUENCE:3
DTSTAMP:20260421T202615Z
URL:https://www.edisonchamber.com/events/details/virtual-networking-5-28-2020-3354
END:VEVENT

END:VCALENDAR
