BEGIN:VCALENDAR
VERSION:2.0
PRODID:-//ChamberMaster//Event Calendar 2.0//EN
METHOD:PUBLISH
X-PUBLISHED-TTL:P3D
REFRESH-INTERVAL:P3D
CALSCALE:GREGORIAN
BEGIN:VEVENT
DTSTART:20210609T210000Z
DTEND:20210610T000000Z
X-MICROSOFT-CDO-ALLDAYEVENT:FALSE
SUMMARY:Summer Music by Mayor Lankey - 6/9/2021
DESCRIPTION:$5 WEDNESDAYS\n\n\n\nEvery Wednesday in June\n\n\n\nFREE live music at 'Music Street' \n\nBring your own chairs!\n\n\n\nThis week we proudly present: Nick Ryan & The Mess\n\n\n\nGet great $5 deals on food all up and down Amboy Ave:\n\nNicks Meat Depot - BBQ Hamburger & Hot Dog\n\nRuby Ke Kitchen Se - Butter Chicken Samosa & Rice\n\nThe Coffee House - Ice Cream\n\nFratelli's Pizza - Large Plain Pie\n\nMore food deals to come...\n\nThe event is rain or shine\n\n\n\nSponsored by:\n\nEdison Community Beautification\n\nEdison Chamber of Commerce
X-ALT-DESC;FMTTYPE=text/html:<p style="text-align: center\;"><br />\n<span style="font-size:16px\;"><span style="font-size:18px\;"><span style="color:#0000FF\;"><strong>$5 WEDNESDAYS</strong></span></span><br />\n<br />\n<strong>Every Wednesday in&nbsp\;June</strong></span><br />\n<br />\n<span style="font-size:14px\;"><strong><span style="color:#0000FF\;">FREE</span>&nbsp\;</strong>live music&nbsp\;at &#39\;Music Street&#39\;&nbsp\;<br />\nBring your own chairs!<br />\n<br />\n<strong>This week we proudly&nbsp\;present:&nbsp\;</strong></span><strong style="font-size: 14px\; text-align: center\;">Nick Ryan &amp\; The Mess</strong><br />\n<br />\n<span style="font-size:14px\;"><span style="color:#0000FF\;"><strong>Get great $5 deals on food all up and down Amboy Ave:</strong></span><br />\n<strong>Nicks Meat Depot</strong>&nbsp\;- BBQ Hamburger &amp\; Hot Dog<br />\n<span font-size:="" google="" style="color: rgb(34\, 34\, 34)\;"><strong>Ruby Ke Kitchen Se&nbsp\;</strong>- <font face="tahoma">Butter Chicken Samosa &amp\; Rice</font></span></span><br />\n<span style="font-size:14px\;"><span font-size:="" google="" style="color: rgb(34\, 34\, 34)\;"><strong>The Coffee House</strong>&nbsp\;- Ice Cream<br />\n<strong>Fratelli&#39\;s Pizza</strong>&nbsp\;- Large Plain Pie<br />\nMore food deals to come...</span></span></p>\n\n<p style="text-align: center\;"><span style="font-size:14px\;"><span font-size:="" google="" style="color: rgb(34\, 34\, 34)\;">The event is rain or shine</span><br />\n<br />\n<span style="color:#0000FF\;"><span font-size:="" google=""><strong>Sponsored by:</strong></span></span><br />\n<span font-size:="" google="" style="color: rgb(34\, 34\, 34)\;">Edison Community Beautification<br />\nEdison Chamber of Commerce</span></span></p>\n\n<div>&nbsp\;</div>\n
LOCATION:'Music Street' 1020 Amboy Ave Edison
UID:e.2325.3661
SEQUENCE:3
DTSTAMP:20260423T085117Z
URL:https://www.edisonchamber.com/events/details/summer-music-by-mayor-lankey-6-9-2021-3661
END:VEVENT

END:VCALENDAR
