BEGIN:VCALENDAR
VERSION:2.0
PRODID:-//ChamberMaster//Event Calendar 2.0//EN
METHOD:PUBLISH
X-PUBLISHED-TTL:P3D
REFRESH-INTERVAL:P3D
CALSCALE:GREGORIAN
BEGIN:VEVENT
DTSTART:20200902T180000Z
DTEND:20200902T190000Z
X-MICROSOFT-CDO-ALLDAYEVENT:FALSE
SUMMARY:Reopening Indoor Dining at 25% - 9/2/2020
DESCRIPTION:Are you a local business or restaurant preparing to reopen with indoor dining at 25% this Friday?\n\n\n\nSign up for our Zoom networking event Wednesday\, September 2 at 2:00 pm\, where our guest speaker will be Jay Elliot\, Director\, Edison Department of Health & Human Services. He will talk about "Reopening indoor dining in Edison" what is required of businesses and what you can do to make sure your employees and customers are safe\; as well as ensure you understand how to implement the new protocols.\n\n\n\nGuest Speaker: Jay Elliot\, Director\, Edison Department of Health & Human Services
X-ALT-DESC;FMTTYPE=text/html:<span font-size:="" style="color: rgb(29\, 33\, 41)\; font-family: system-ui\, -apple-system\, system-ui\, " white-space:="">Are you a local business or restaurant preparing to reopen with indoor dining at 25% this Friday?<br />\n<br />\nSign up for our Zoom networking event Wednesday\, September 2 at 2:00 pm\, where our guest speaker will be Jay Elliot\, Director\, Edison Department of Health &amp\; Human Services. He will talk about &quot\;Reopening indoor dining in Edison&quot\; what is required of businesses and what you can do to make sure your employees and customers are safe\; as well as ensure you understand how to implement the new protocols.</span><br font-size:="" style="color: rgb(29\, 33\, 41)\; font-family: system-ui\, -apple-system\, system-ui\, " white-space:="" />\n<br font-size:="" style="color: rgb(29\, 33\, 41)\; font-family: system-ui\, -apple-system\, system-ui\, " white-space:="" />\n<span font-size:="" style="color: rgb(29\, 33\, 41)\; font-family: system-ui\, -apple-system\, system-ui\, " white-space:=""><strong>Guest Speaker: </strong>Jay Elliot\, Director\, Edison Department of Health &amp\; Human Services</span>
LOCATION:Zoom After we receive your registration we will send you the Zoom info
UID:e.2325.3381
SEQUENCE:3
DTSTAMP:20260421T134540Z
URL:https://www.edisonchamber.com/events/details/reopening-indoor-dining-at-25-9-2-2020-3381
END:VEVENT

END:VCALENDAR
