BEGIN:VCALENDAR
VERSION:2.0
PRODID:-//ChamberMaster//Event Calendar 2.0//EN
METHOD:PUBLISH
X-PUBLISHED-TTL:P3D
REFRESH-INTERVAL:P3D
CALSCALE:GREGORIAN
BEGIN:VEVENT
DTSTART:20200618T180000Z
DTEND:20200618T190000Z
X-MICROSOFT-CDO-ALLDAYEVENT:FALSE
SUMMARY:Preparing to Open the Beauty Industry Seminar - 5/18/202
DESCRIPTION:Jay Elliot\, Director\, Edison Department of Health & Human Services will be discussing the reopening on June 22 of Beauty Salons\, Barbershops\, and Nail Salons as well as other beauty industry businesses. If you are an owner or employee of one of these types of businesses please join us to learn what is now required in the COVID-19 era. Jay will discuss what you can do to make sure your employees and clients/customers are safe\; as well as ensure you understand how to implement the new protocols that the town\, the state\, as well as the state board now require.
X-ALT-DESC;FMTTYPE=text/html:<span style="font-size:14px\;"><span style="font-family:tahoma\;">Jay Elliot\, Director\, Edison Department of Health &amp\; Human Services will be discussing the reopening on June 22 of&nbsp\;<span style="color: rgb(28\, 30\, 33)\;">Beauty Salons\, B</span><span style="color: rgb(28\, 30\, 33)\;">arbershops\,&nbsp\;</span><span class="text_exposed_show" style="display: inline\; color: rgb(28\, 30\, 33)\;">and Nail Salons as well as other beauty industry businesses.&nbsp\;If you are an owner or employee of one of these types of businesses please join us to learn&nbsp\;</span><span style="color: rgb(29\, 33\, 41)\; white-space: pre-wrap\;">what is now required in the COVID-19 era. Jay will discuss what you can do to make sure your employees and clients/customers are safe\; as well as ensure you understand how to implement the new protocols that the town\, the state\, as well as the state board now require.</span></span></span>
LOCATION:Virtual Zoom
UID:e.2325.3369
SEQUENCE:3
DTSTAMP:20260421T203059Z
URL:https://www.edisonchamber.com/events/details/preparing-to-open-the-beauty-industry-seminar-5-18-202-3369
END:VEVENT

END:VCALENDAR
