BEGIN:VCALENDAR
VERSION:2.0
PRODID:-//ChamberMaster//Event Calendar 2.0//EN
METHOD:PUBLISH
X-PUBLISHED-TTL:P3D
REFRESH-INTERVAL:P3D
CALSCALE:GREGORIAN
BEGIN:VEVENT
DTSTART;VALUE=DATE:20210528
DTEND;VALUE=DATE:20210606
TRANSP:TRANSPARENT
X-MICROSOFT-CDO-ALLDAYEVENT:TRUE
SUMMARY:Piano Project Clara Barton 2021 - 5/28/2021
DESCRIPTION:Edison Chamber of Commerce and Edison Arts Society \n\nClara Barton Piano Painting Project\n\n\n\nThe Edison Chamber of Commerce and the Edison Arts Society invite all Edison Township artists and Edison Arts Society members as well as Edison Chamber members who want to express their creativity and take part in decorating one of four upright pianos to be installed temporarily along Amboy Avenue in Clara Barton. The pianos are for public playing during the spring and summer of 2021. The winning artists will be spotlighted on each piano with a plaque.\n\n\n\nThe decorated pianos will bring creativity\, color\, and music to our downtown - welcoming all to Clara Barton! Providing all of those who live\, work and visit the area with enjoyment and entertainment. As we come out of the COVID-19 pandemic\, we understand the emotional impact it took on on our community. We believe this project will bring smiles to the faces of all who see and hear the sounds\, beauty\, and creativity of the pianos.\n\n\n\nProject Details\n\nThe pianos will be available for decoration at sites along Amboy Avenue\, to be scheduled for decoration through the Edison Chamber office. The Chamber will provide each painter with $350 for the purchase of the paint\, materials\, and labor.*  While some piano sites may have an overhead cover\, this is not guaranteed\, and the Edison Chamber of Commerce reserves the right to relocate the decorated pianos to unprotected sites\, so appropriate material selections should be made accordingly.  \n\n\n\nSelection Process\n\nThe four "artists" will be chosen by the Edison Arts Society. The winning artists will be selected and will be notified by Saturday\, May 29th. The painting projects must be completed no later than Saturday\, June 5. Each artist will be required to sign an agreement to the terms of the project before the work can commence. No previous public art experience required\; artists of all career levels are welcome to apply.\n\n\n\nTimeline\n\nApplications Due: Friday\, May 28\n\nNotification & Agreement of Artist Selection: Saturday\, May 29\n\n $100 paid on 5/29 ($250 balance paid on 6/6)\n\nPiano decoration: Saturday\, May 29 to Saturday\, June 5\n\nThe public celebration of this project at Summer Flower Walk: Saturday\, June 26\n\n\n\nApplication Requirements\n  Please send: Name/Address/E-mail/Phone Number\n\n  Must provide a sample sketch and a brief written description of the design proposal and materials to be utilized (with conceptual design sketches\, if that will strengthen the application).\n\n  Artist must be an Edison resident\, member of the Edison Arts Society\, or an Edison Chamber member.\n\n \nApply here and submit any questions to: EdisonChamberArtAndMusic@gmail.com\n\n\n\n\n\n\n\n* Budget awards to include all project-related costs\, including artist and design fees\, materials and supplies\, labor\, equipment\, etc.
X-ALT-DESC;FMTTYPE=text/html:<div style="text-align: center\;"><br />\n<span style="color:#0000FF\;"><span style="font-size:20px\;"><strong><span style="font-family:tahoma\,sans-serif\;"><span style="font-size:24px\;"><span style="font-size:22px\;">Edison Chamber of Commerce&nbsp\;</span></span></span></strong></span><strong style="font-size: 20px\; text-align: center\;"><span style="font-family: tahoma\, sans-serif\;"><span style="font-size: 24px\;"><span style="font-size: 22px\;">and&nbsp\;Edison Arts Society&nbsp\;</span></span></span></strong></span><br />\n<span style="font-size:20px\;"><strong><span style="font-family:tahoma\,sans-serif\;"><span style="font-size:24px\;"><span style="color:#0000FF\;"><span style="font-size:22px\;">Clara Barton Piano Painting Project</span></span></span></span></strong></span><br />\n<br />\n<span style="font-family:tahoma\,sans-serif\;"><span style="font-size:10.5pt\;">The Edison Chamber of Commerce and the Edison Arts Society invite all Edison Township artists and Edison Arts Society members as well as Edison Chamber members who want to express their creativity and take part in decorating one of four upright pianos to be installed temporarily along Amboy Avenue in Clara Barton. The pianos are for public playing during the spring and summer of 2021. The winning artists will be spotlighted on each piano with a plaque.</span></span><br />\n<br />\n<span style="font-family:tahoma\,sans-serif\;"><span style="font-size:10.5pt\;">The decorated pianos will bring creativity\, color\, and music to our downtown - welcoming all to Clara Barton! Providing all of those who live\, work and visit the area with enjoyment and entertainment. As we come out of the COVID-19 pandemic\, we understand the emotional&nbsp\;impact it took on on our community. We&nbsp\;believe this project will bring smiles to the faces of all who see and hear the sounds\, beauty\, and creativity of the pianos.</span></span><br />\n<br />\n<span style="font-size:20px\;"><span style="color:#0000FF\;"><strong><span style="font-family:tahoma\,sans-serif\;">Project Details</span></strong></span></span><br />\n<span style="font-family:tahoma\,sans-serif\;"><span style="font-size:10.5pt\;">The pianos will be available for decoration at sites along Amboy Avenue\,&nbsp\;to be scheduled for decoration through the Edison Chamber office. The Chamber will provide each painter with $350 for the purchase of the paint\, materials\, and labor.*&nbsp\; While some piano sites may have an overhead cover\, this is not guaranteed\, and the Edison Chamber of Commerce reserves the right to relocate the decorated pianos to unprotected sites\, so appropriate material selections should be made accordingly.&nbsp\;&nbsp\;</span></span><br />\n<br />\n<span style="font-size:20px\;"><span style="color:#0000FF\;"><strong><span style="font-family:tahoma\,sans-serif\;">Selection Process</span></strong></span></span><br />\n<span style="font-family:tahoma\,sans-serif\;"><span style="font-size:10.5pt\;">The four &quot\;artists&quot\; will be chosen by the Edison Arts Society. The winning artists will be selected and will be notified by Saturday\, May 29th. The painting projects must be completed no later than Saturday\,&nbsp\;June 5. Each artist will be required to sign an agreement to the terms of the project before the work can commence. No previous public art experience required\; artists of all career levels are welcome to apply.</span></span><br />\n<br />\n<span style="font-size:20px\;"><span style="color:#0000FF\;"><strong><span style="font-family:tahoma\,sans-serif\;">Timeline</span></strong></span></span><br />\n<span style="font-family:tahoma\,sans-serif\;"><span style="font-size:10.5pt\;"><span style="color:#0000FF\;"><strong>Applications Due:</strong></span> Friday\,&nbsp\;May 28</span></span><br />\n<span style="font-family:tahoma\,sans-serif\;"><span style="font-size:10.5pt\;"><span style="color:#0000FF\;"><strong>Notification &amp\; Agreement of Artist Selection:</strong> </span>Saturday\, May 29<br />\n&nbsp\;$100 paid on 5/29 ($250 balance paid on 6/6)</span></span><br />\n<strong><span style="font-family: tahoma\, sans-serif\; font-size: 14px\; text-align: center\;"><span style="color:#0000FF\;">Piano decoration:</span> </span></strong><span style="font-family: tahoma\, sans-serif\; font-size: 14px\; text-align: center\;">Saturday\,&nbsp\;</span><span style="font-family:tahoma\,sans-serif\;"><span style="font-size:10.5pt\;">May 29 to Saturday\, June 5</span></span><br />\n<span style="color:#0000FF\;"><strong><span style="font-family:tahoma\,sans-serif\;"><span style="font-size:10.5pt\;">The public celebration of this&nbsp\;project at Summer Flower Walk: </span></span></strong></span><span style="font-family:tahoma\,sans-serif\;"><span style="font-size:10.5pt\;">Saturday\,</span></span><strong><span style="font-family:tahoma\,sans-serif\;"><span style="font-size:10.5pt\;">&nbsp\;</span></span></strong><span style="font-family:tahoma\,sans-serif\;"><span style="font-size:10.5pt\;">June 26</span></span><br />\n<br />\n<span style="font-size:20px\;"><span style="color:#0000FF\;"><strong><span style="font-family:tahoma\,sans-serif\;">Application Requirements</span></strong></span></span>\n<div style="font-size:12pt\;font-family:Calibri\, sans-serif\;"><span style="font-family:tahoma\,sans-serif\;"><span style="font-size:10.5pt\;"><span style="color:#0000FF\;">&bull\; </span>Please send: Name/Address/E-mail/Phone Number</span></span></div>\n\n<div style="font-size:12pt\;font-family:Calibri\, sans-serif\;"><span style="font-family:tahoma\,sans-serif\;"><span style="font-size:10.5pt\;"><span style="color:#0000FF\;">&bull\;</span> Must provide a sample sketch and a brief written description of the design proposal and materials to be utilized (with conceptual design sketches\, if that will strengthen the application).<br />\n<span style="color:#0000FF\;">&bull\; </span>Artist must be an Edison resident\, member of the Edison Arts Society\, or an Edison Chamber member.</span></span><br />\n&nbsp\;</div>\n<span style="font-family:tahoma\,sans-serif\;"><span style="font-size:10.5pt\;">Apply here and submit any questions to:&nbsp\;</span></span><a href="mailto:EdisonChamberArtAndMusic@gmail.com" style="color:rgb(5\, 99\, 193)\;"><span style="color:#0000FF\;">EdisonChamberArtAndMusic@gmail.com</span></a><br />\n<br />\n<br />\n<br />\n*&nbsp\;<span style="font-family: tahoma\, sans-serif\; font-size: 14px\; text-align: center\;">Budget awards to include all project-related costs\, including artist and design fees\, materials and supplies\, labor\, equipment\, etc.</span><br />\n<br />\n<br />\n<br />\n<br />\n<br />\n<br />\n&nbsp\;</div>\n
LOCATION:Amboy Ave in Clara Barton Edison
UID:e.2325.3659
SEQUENCE:3
DTSTAMP:20260423T073301Z
URL:https://www.edisonchamber.com/events/details/piano-project-clara-barton-2021-5-28-2021-3659
END:VEVENT

END:VCALENDAR
