BEGIN:VCALENDAR
VERSION:2.0
PRODID:-//ChamberMaster//Event Calendar 2.0//EN
METHOD:PUBLISH
X-PUBLISHED-TTL:P3D
REFRESH-INTERVAL:P3D
CALSCALE:GREGORIAN
BEGIN:VEVENT
DTSTART:20210626T180000Z
DTEND:20210626T183000Z
X-MICROSOFT-CDO-ALLDAYEVENT:FALSE
SUMMARY:Paint My Piano Unveiling 6/26/2021
DESCRIPTION:Join Mayor Lankey as he unveils the Clara Barton Painted Pianos at the Summer Flower Walk
X-ALT-DESC;FMTTYPE=text/html:<div style="text-align: center\;"><br />\nJoin Mayor Lankey as he unveils the Clara Barton Painted Pianos at the Summer Flower Walk</div>\n
LOCATION:New Jersey Guitar & Bass Center 995 Amboy Ave\, Edison
UID:e.2325.3669
SEQUENCE:3
DTSTAMP:20260423T084809Z
URL:https://www.edisonchamber.com/events/details/paint-my-piano-unveiling-6-26-2021-3669
END:VEVENT

END:VCALENDAR
