BEGIN:VCALENDAR
VERSION:2.0
PRODID:-//ChamberMaster//Event Calendar 2.0//EN
METHOD:PUBLISH
X-PUBLISHED-TTL:P3D
REFRESH-INTERVAL:P3D
CALSCALE:GREGORIAN
BEGIN:VEVENT
DTSTART:20201113T170000Z
DTEND:20201113T190000Z
X-MICROSOFT-CDO-ALLDAYEVENT:FALSE
SUMMARY:Outdoor Networking at Benihana - 11/13/2020
DESCRIPTION:The Edison Chamber of Commerce is offering another opportunity for you to attend a COVID safe networking event. Come enjoy a great lunch and the beautiful fall weather. Benihana's of Edison will be serving lunch under a tent with space heaters.\n\n \n\nBring those business cards with you and get ready to grow your business!
X-ALT-DESC;FMTTYPE=text/html:<br />\n<span style="font-size:18px\;"><span style="font-family: tahoma\;"><strong><span style="background-image: initial\; background-position: initial\; background-size: initial\; background-repeat: initial\; background-attachment: initial\; background-origin: initial\; background-clip: initial\;">The Edison Chamber of Commerce</span></strong></span><span style="background-image: initial\; background-position: initial\; background-size: initial\; background-repeat: initial\; background-attachment: initial\; background-origin: initial\; background-clip: initial\;"><span style="font-family: arial\, sans-serif\;">&nbsp\;<span style="font-family: tahoma\;">is offering another opportunity for you to attend a COVID safe networking event. Come enjoy a great lunch and the beautiful fall weather. Benihana&#39\;s of Edison will be serving lunch under a tent with space heaters.</span></span></span><br />\n<span style="font-family: tahoma\;">&nbsp\;<br />\n<span style="background-image: initial\; background-position: initial\; background-size: initial\; background-repeat: initial\; background-attachment: initial\; background-origin: initial\; background-clip: initial\;">Bring those business cards with you and get ready to grow your business!</span></span></span>
LOCATION:60 Parsonage Rd Edison
UID:e.2325.3398
SEQUENCE:3
DTSTAMP:20260419T164032Z
URL:https://www.edisonchamber.com/events/details/outdoor-networking-at-benihana-11-13-2020-3398
END:VEVENT

END:VCALENDAR
