BEGIN:VCALENDAR
VERSION:2.0
PRODID:-//ChamberMaster//Event Calendar 2.0//EN
METHOD:PUBLISH
X-PUBLISHED-TTL:P3D
REFRESH-INTERVAL:P3D
CALSCALE:GREGORIAN
BEGIN:VEVENT
DTSTART:20210621T210000Z
DTEND:20210622T000000Z
X-MICROSOFT-CDO-ALLDAYEVENT:FALSE
SUMMARY:Meet Your Neighbors Monday - 06/21/2021
DESCRIPTION:Meet Your Neighbors Mondays\n\non\n\n"Music Street"\n\nAll Mondays in June - enjoy FREE music\, great art\, and amazing food\n\nOur neighborhood takes center stage as we invite performers\, artists\, and others that have been involved in growing our arts scene to take over Music Street.\n\nLive Music: \n\nRay Andersen\n\nNon-Profit: \n\nEdison Community Beautification \n\nMeet the people behind multiple betterment projects in town\n\nArtist: \n\nDavid LaMorte\, Artist & Educator\n\nPlayful pop art inspired by cartoons. comics & contemporary art\n\nStreet Food Pop Up: \n\nNick's Meat Depot\n\nCall Nick's at 732-902-6800 to preorder for pick up OR order your meal in-person\n\n\n\nEnjoy your meal and music in the public seating area\n\nThe Paisan - $10\n\nItalian Sausage\, peppers onions & light tomato sauce on a fresh hero roll\n\ntopped with Pecorino Romano and fresh parsley\n\nThe Summer Box - $8\n\nAn Angus beef cheeseburger AND a gourmet hot dog\,\n\nboth served brioche buns.\n\nThe Butchers BBQ box - $13.99/lb\n\nBBQ Chicken: Salt\, pepper\, garlic\, grilled over charcoal OR\n\nRib Tips: bite-size spareribs with Texas-style rub\, smoked on applewood OR\n\nTop Sirloin: salt pepper rub\, grilled over charcoal
X-ALT-DESC;FMTTYPE=text/html:<p align="center" class="04xlpa" style="color: rgb(0\, 0\, 0)\; font-size: medium\; text-align: center\;"><br />\n<span style="color:#DA3F39\;"><span class="jsgrdq"><b><span style="font-family: Arial\, sans-serif\;">Meet Your Neighbors Mondays<br />\non<br />\n&quot\;Music Street&quot\;</span></b></span></span></p>\n\n<p align="center" class="04xlpa" style="color: rgb(0\, 0\, 0)\; font-size: medium\; text-align: center\;"><span class="jsgrdq"><span style="font-family: Arial\, sans-serif\;">All Mondays in June - enjoy FREE music\, great art\, and amazing food</span></span></p>\n\n<p align="center" class="04xlpa" style="color: rgb(0\, 0\, 0)\; font-size: medium\; text-align: center\;"><span class="jsgrdq"><span style="font-family: Arial\, sans-serif\;">Our neighborhood takes center stage as we invite performers\, artists\, and others that have been involved in growing our arts scene to take over Music Street.</span></span></p>\n\n<p align="center" class="04xlpa" style="color: rgb(0\, 0\, 0)\; font-size: medium\; text-align: center\;"><span class="jsgrdq"><span style="font-family: Arial\, sans-serif\;"><strong><span style="color:#DA3F39\;">Live Music:</span> </strong><br />\nRay Andersen</span></span></p>\n\n<p align="center" class="04xlpa" style="color: rgb(0\, 0\, 0)\; font-size: medium\; text-align: center\;"><span style="color:#DA3F39\;"><span style="font-family: Arial\, sans-serif\; font-size: medium\; text-align: center\;"><strong>Non-Profit:</strong></span></span><span style="color: rgb(0\, 0\, 0)\; font-family: Arial\, sans-serif\; font-size: medium\; text-align: center\;">&nbsp\;</span><br />\n<span class="jsgrdq"><span style="font-family: Arial\, sans-serif\;">Edison Community Beautification&nbsp\;<br />\nMeet the people behind multiple betterment projects in town</span></span></p>\n\n<p align="center" class="04xlpa" style="color: rgb(0\, 0\, 0)\; font-size: medium\; text-align: center\;"><span class="jsgrdq"><span style="font-family: Arial\, sans-serif\;"><span style="color:#DA3F39\;"><strong>Artist: </strong></span><br />\nDavid LaMorte\, Artist &amp\; Educator<br />\nPlayful pop art inspired by cartoons. comics &amp\; contemporary art</span></span></p>\n\n<p align="center" class="04xlpa" style="color: rgb(0\, 0\, 0)\; font-size: medium\; text-align: center\;"><span class="jsgrdq"><span style="font-family: Arial\, sans-serif\;"><span style="color:#DA3F39\;"><strong>Street Food Pop Up:&nbsp\;</strong></span><br />\nNick&rsquo\;s Meat Depot</span></span></p>\n\n<p align="center" class="04xlpa" style="color: rgb(0\, 0\, 0)\; font-size: medium\; text-align: center\;"><span style="font-size:14px\;"><span class="jsgrdq"><span style="font-family: Arial\, sans-serif\;">Call Nick&#39\;s at 732-902-6800 to preorder for pick up OR order your meal in-person<br />\n<br />\nEnjoy your meal and music in the public seating area</span></span></span></p>\n\n<p align="center" class="04xlpa" style="color: rgb(0\, 0\, 0)\; font-size: medium\; text-align: center\;"><span style="font-size:14px\;"><span style="color:#DA3F39\;"><span class="jsgrdq"><b><span style="font-family: Arial\, sans-serif\;">The Paisan - $10</span></b></span></span></span></p>\n\n<p align="center" class="04xlpa" style="color: rgb(0\, 0\, 0)\; font-size: medium\; text-align: center\;"><span style="font-size:14px\;"><span class="jsgrdq"><span style="font-family: Arial\, sans-serif\;">Italian Sausage\, peppers onions &amp\; light tomato sauce on a fresh hero roll<br />\ntopped with Pecorino Romano and fresh parsley</span></span></span></p>\n\n<p align="center" class="04xlpa" style="color: rgb(0\, 0\, 0)\; font-size: medium\; text-align: center\;"><span style="font-size:14px\;"><span style="color:#DA3F39\;"><span class="jsgrdq"><b><span style="font-family: Arial\, sans-serif\;">The Summer Box - $8</span></b></span></span></span></p>\n\n<p align="center" class="04xlpa" style="color: rgb(0\, 0\, 0)\; font-size: medium\; text-align: center\;"><span style="font-size:14px\;"><span class="jsgrdq"><span style="font-family: Arial\, sans-serif\;">An Angus beef cheeseburger AND a gourmet hot dog\,<br />\nboth served brioche buns.</span></span></span></p>\n\n<p align="center" class="04xlpa" style="color: rgb(0\, 0\, 0)\; font-size: medium\; text-align: center\;"><span style="font-size:14px\;"><span style="color:#DA3F39\;"><span class="jsgrdq"><b><span style="font-family: Arial\, sans-serif\;">The Butchers BBQ box - $13.99/lb</span></b></span></span></span></p>\n\n<p align="center" class="04xlpa" style="color: rgb(0\, 0\, 0)\; font-size: medium\; text-align: center\;"><span class="jsgrdq"><span style="font-family: Arial\, sans-serif\;"><span style="font-size:14px\;">BBQ Chicken: Salt\, pepper\, garlic\, grilled over charcoal OR<br />\nRib Tips: bite-size spareribs with Texas-style rub\, smoked on applewood OR<br />\nTop Sirloin: salt pepper rub\, grilled over charcoa</span>l</span></span></p>\n\n<p align="center" class="04xlpa" style="color: rgb(0\, 0\, 0)\; font-size: medium\; text-align: center\;">&nbsp\;</p>\n\n<p align="center" class="04xlpa" style="color: rgb(0\, 0\, 0)\; font-size: medium\; text-align: center\;">&nbsp\;</p>\n
LOCATION:1020 Amboy Avenue Edison\, NJ
UID:e.2325.3667
SEQUENCE:3
DTSTAMP:20260423T073732Z
URL:https://www.edisonchamber.com/events/details/meet-your-neighbors-monday-06-21-2021-3667
END:VEVENT

END:VCALENDAR
