BEGIN:VCALENDAR
VERSION:2.0
PRODID:-//ChamberMaster//Event Calendar 2.0//EN
METHOD:PUBLISH
X-PUBLISHED-TTL:P3D
REFRESH-INTERVAL:P3D
CALSCALE:GREGORIAN
BEGIN:VEVENT
DTSTART:20210627T160000Z
DTEND:20210627T230000Z
X-MICROSOFT-CDO-ALLDAYEVENT:FALSE
SUMMARY:Mayor Lankey's First Annual Summer Flower Walk - Day 2 - 6/27/2021
DESCRIPTION:Join us for Mayor Tom Lankey's First Annual Summer Flower Walk on June 27.\n\nView over 10\,000 flowers along Amboy Avenue.\n\nSun patients\, Marigolds\, Geraniums\, Begonias\, Calibrachoas\, Bacopa\, Scaveola\, Sweet Potato Vines\, Vinca Vines\, and more \n\nFood\, Music\, Wine and Craft Beer\n\n\n\nBands\n\n \n\nTimes and Locations:\n\n \n\nBeer and Wine Garden\n\n12:00 pm   1:15 pm Lance Greene\n\n1:30 pm   2:45 pm Tara Dente\n\n3:30 pm   5:00 pm Nick Ryan and the Mess\n\n \n\nThird Street Stage\n\n2:00 pm   3:00 pm Edison Chinese Chorus\n\n \n\nPiano Celebrations\n\n1:30 pm   2:45 pm Rob Grande   NJ Guitar Piano\n\n3:30   5:00 pm   Laura Goldman- Babooshka Piano\n\n \n\nThe Coffee House\n\n1:30 pm   2:45 pm Bella Liberati/Nick Ryan\n\n3:00 pm   3:45 pm Sophia Dimayura\n\n \n\nLocation TBD\n\n5:45 pm   7:00 pm Lenox Underground\n\n5:00 pm   6:30 pm The Smooth Band Orchestra
X-ALT-DESC;FMTTYPE=text/html:<div class="kvgmc6g5 cxmmr5t8 oygrvhab hcukyx3x c1et5uql" color:="" font-size:="" style="overflow-wrap: break-word\; margin: 0px\; font-family: system-ui\, -apple-system\, system-ui\, "><br />\n<span style="font-family:tahoma\;"><span style="font-size:14px\;">Join us for Mayor Tom Lankey&#39\;s First Annual Summer Flower Walk on June&nbsp\;27.</span></span></div>\n\n<div class="o9v6fnle cxmmr5t8 oygrvhab hcukyx3x c1et5uql" color:="" font-size:="" style="overflow-wrap: break-word\; margin: 0.5em 0px 0px\; font-family: system-ui\, -apple-system\, system-ui\, "><span style="font-family:tahoma\;"><span style="font-size:14px\;">View over 10\,000 flowers along Amboy Avenue.</span></span></div>\n\n<div class="o9v6fnle cxmmr5t8 oygrvhab hcukyx3x c1et5uql" color:="" font-size:="" style="overflow-wrap: break-word\; margin: 0.5em 0px 0px\; font-family: system-ui\, -apple-system\, system-ui\, "><span style="font-family:tahoma\;"><span style="font-size:14px\;">Sun patients\, Marigolds\, Geraniums\, Begonias\, Calibrachoas\, Bacopa\, Scaveola\, Sweet Potato Vines\, Vinca Vines\, and more&hellip\;</span></span></div>\n\n<div class="o9v6fnle cxmmr5t8 oygrvhab hcukyx3x c1et5uql" color:="" font-size:="" style="overflow-wrap: break-word\; margin: 0.5em 0px 0px\; font-family: system-ui\, -apple-system\, system-ui\, "><span style="font-family:tahoma\;"><span style="font-size:14px\;">Food\, Music\, Wine and Craft Beer</span></span><br />\n<br />\n<span style="font-size:20px\;"><u><strong>Bands</strong></u></span><br />\n&nbsp\;<br />\nTimes and Locations:<br />\n&nbsp\;</div>\n\n<div class="o9v6fnle cxmmr5t8 oygrvhab hcukyx3x c1et5uql" color:="" font-size:="" style="overflow-wrap: break-word\; margin: 0.5em 0px 0px\; font-family: system-ui\, -apple-system\, system-ui\, "><span style="font-family:tahoma\;"><strong><u>Beer and Wine Garden</u></strong><br />\n12:00 pm &ndash\; 1:15 pm Lance Greene<br />\n1:30 pm &ndash\; 2:45 pm Tara Dente<br />\n3:30 pm &ndash\; 5:00 pm Nick Ryan and the Mess<br />\n&nbsp\;<br />\n<strong><u>Third Street Stage</u></strong><br />\n2:00 pm &ndash\; 3:00 pm Edison Chinese Chorus<br />\n&nbsp\;<br />\n<strong><u>Piano Celebrations</u></strong><br />\n1:30 pm &ndash\; 2:45 pm Rob Grande &ndash\; NJ Guitar Piano<br />\n3:30 &ndash\; 5:00 pm &ndash\; Laura Goldman- Babooshka Piano<br />\n&nbsp\;<br />\n<strong><u>The Coffee House</u></strong><br />\n1:30 pm &ndash\; 2:45 pm <span style="font-size:11pt\;">Bella Liberati/Nick Ryan</span><br />\n3:00 pm &ndash\; 3:45 pm <span style="font-size:11pt\;">Sophia Dimayura</span><br />\n&nbsp\;<br />\n<strong><u>Location TBD</u></strong><br />\n5:45 pm &ndash\; 7:00 pm Lenox Underground<br />\n5:00 pm &ndash\; 6:30 pm The Smooth Band Orchestra</span><br />\n&nbsp\;</div>\n
LOCATION:The event begins at The Coffee House\, 931 Amboy Ave\, Edison. It runs along Amboy Ave (Clara Barton Section). Between Barton & Pleasant.
UID:e.2325.3655
SEQUENCE:3
DTSTAMP:20260423T073922Z
URL:https://www.edisonchamber.com/events/details/mayor-lankey-s-first-annual-summer-flower-walk-day-2-6-27-2021-3655
END:VEVENT

END:VCALENDAR
