BEGIN:VCALENDAR
VERSION:2.0
PRODID:-//ChamberMaster//Event Calendar 2.0//EN
METHOD:PUBLISH
X-PUBLISHED-TTL:P3D
REFRESH-INTERVAL:P3D
CALSCALE:GREGORIAN
BEGIN:VEVENT
DTSTART:20210626T160000Z
DTEND:20210626T230000Z
X-MICROSOFT-CDO-ALLDAYEVENT:FALSE
SUMMARY:Mayor Lankey's First Annual Summer Flower Walk - Day 1 - 6/26/2021
DESCRIPTION:Join us for Mayor Tom Lankey's First Annual Summer Flower Walk on June 26\n\nView over 10\,000 flowers along Amboy Avenue.\n\nSun patients\, Marigolds\, Geraniums\, Begonias\, Calibrachoas\, Bacopa\, Scaveola\, Sweet Potato Vines\, Vinca Vines\, and more \n\nFood\, Music\, Wine and Craft Beer\n\n\n\nBands\n\n \n\nTimes and Locations:\n\n \n\nBeer & Wine Garden\n\n12:00 pm   1:15 pm Mike Regan\n\n1:30 pm   2:45 pm Brian Erickson\n\n3:30 pm   5:00 pm Bryan Hansen Band\n\n \n\nThird Street Stage\n\n12:00 pm   1:15 pm. Cranston Dean-3rd St Piano\n\n5:00 pm   6:30 pm. Jersey Beatz\n\n \n\nThe Coffee House\n\n1:30 pm   2:45 pm Ryan Gregg\n\n3:00 pm   4:00 pm Cranston Dean   Coffee House Piano\n\n7:00 pm   9:00 pm Arlan Feiles
X-ALT-DESC;FMTTYPE=text/html:<div class="kvgmc6g5 cxmmr5t8 oygrvhab hcukyx3x c1et5uql" color:="" font-size:="" style="overflow-wrap: break-word\; margin: 0px\; font-family: system-ui\, -apple-system\, system-ui\, "><br />\n<span style="font-size:14px\;"><span style="font-family:tahoma\;">Join us for Mayor Tom Lankey&#39\;s First Annual Summer Flower Walk on June 26</span></span></div>\n\n<div class="o9v6fnle cxmmr5t8 oygrvhab hcukyx3x c1et5uql" color:="" font-size:="" style="overflow-wrap: break-word\; margin: 0.5em 0px 0px\; font-family: system-ui\, -apple-system\, system-ui\, "><span style="font-size:14px\;"><span style="font-family:tahoma\;">View over 10\,000 flowers along Amboy Avenue.</span></span></div>\n\n<div class="o9v6fnle cxmmr5t8 oygrvhab hcukyx3x c1et5uql" color:="" font-size:="" style="overflow-wrap: break-word\; margin: 0.5em 0px 0px\; font-family: system-ui\, -apple-system\, system-ui\, "><span style="font-size:14px\;"><span style="font-family:tahoma\;">Sun patients\, Marigolds\, Geraniums\, Begonias\, Calibrachoas\, Bacopa\, Scaveola\, Sweet Potato Vines\, Vinca Vines\, and more&hellip\;</span></span></div>\n\n<div class="o9v6fnle cxmmr5t8 oygrvhab hcukyx3x c1et5uql" color:="" font-size:="" style="overflow-wrap: break-word\; margin: 0.5em 0px 0px\; font-family: system-ui\, -apple-system\, system-ui\, "><span style="font-size:14px\;"><span style="font-family:tahoma\;">Food\, Music\, Wine and Craft Beer</span></span><br />\n<br />\n<span style="font-family:tahoma\;"><span style="font-size:20px\;"><strong>Bands</strong></span><br />\n&nbsp\;<br />\n<span style="font-size:14px\;">Times and Locations:<br />\n&nbsp\;<br />\n<strong><u>Beer &amp\; Wine Garden</u></strong><br />\n12:00 pm &ndash\; 1:15 pm Mike Regan<br />\n1:30 pm &ndash\; 2:45 pm Brian Erickson<br />\n3:30 pm &ndash\; 5:00 pm Bryan Hansen Band<br />\n&nbsp\;<br />\n<strong><u>Third Street Stage</u></strong><br />\n12:00 pm &ndash\; 1:15 pm. Cranston Dean-3rd St Piano<br />\n5:00 pm &ndash\; 6:30 pm. Jersey Beatz<br />\n&nbsp\;<br />\n<strong><u>The Coffee House</u></strong><br />\n1:30 pm &ndash\; 2:45 pm Ryan Gregg<br />\n3:00 pm &ndash\; 4:00 pm Cranston Dean &ndash\; Coffee House Piano<br />\n7:00 pm &ndash\; 9:00 pm Arlan Feiles</span></span><br />\n&nbsp\;</div>\n\n<div class="o9v6fnle cxmmr5t8 oygrvhab hcukyx3x c1et5uql" color:="" font-size:="" style="overflow-wrap: break-word\; margin: 0.5em 0px 0px\; font-family: system-ui\, -apple-system\, system-ui\, ">&nbsp\;</div>\n
LOCATION:The event begins at The Coffee House\, 931 Amboy Ave\, Edison. It runs along Amboy Ave (Clara Barton Section). Between Barton & Pleasant.
UID:e.2325.3656
SEQUENCE:3
DTSTAMP:20260423T090030Z
URL:https://www.edisonchamber.com/events/details/mayor-lankey-s-first-annual-summer-flower-walk-day-1-6-26-2021-3656
END:VEVENT

END:VCALENDAR
