BEGIN:VCALENDAR
VERSION:2.0
PRODID:-//ChamberMaster//Event Calendar 2.0//EN
METHOD:PUBLISH
X-PUBLISHED-TTL:P3D
REFRESH-INTERVAL:P3D
CALSCALE:GREGORIAN
BEGIN:VEVENT
DTSTART:20250522T160000Z
DTEND:20250522T173000Z
X-MICROSOFT-CDO-ALLDAYEVENT:FALSE
SUMMARY:Lunch with Veterans - 05/22/25
DESCRIPTION:Join Us for Lunch with Veterans   \n\nPresented by the Edison Chamber of Commerce and proudly sponsored by Optimum\n\n  Thursday\, May 22\n\n  12:00 PM   1:30 PM\n\n  NJ Veterans Memorial Home at Menlo Park\n\n132 Evergreen Rd\, Edison\, NJ\n\nEnjoy a meaningful afternoon honoring our veterans over lunch\, celebrating National Military Appreciation Month. This special event is FREE for Edison Chamber members and their guests   but RSVP is required!\n\nLet's come together to show our gratitude to those who've served.\n\n  RSVP today and be part of something special!
X-ALT-DESC;FMTTYPE=text/html:<p data-end="214" data-start="82"><span style="font-size:14px\;"><span style="font-family:tahoma\;">&#127482\;&#127480\; <strong data-end="122" data-start="87">Join Us for Lunch with Veterans</strong> &#127482\;&#127480\;<br data-end="130" data-start="127" />\nPresented by the <strong data-end="177" data-start="147">Edison Chamber of Commerce</strong> and proudly sponsored by <strong data-end="214" data-start="203">Optimum</strong></span></span></p>\n\n<p data-end="329" data-start="216"><span style="font-size:14px\;"><span style="font-family:tahoma\;">&#128467\; <strong data-end="239" data-start="219">Thursday\, May 22</strong><br data-end="242" data-start="239" />\n&#128347\; <strong data-end="264" data-start="245">12:00 PM &ndash\; 1:30 PM</strong><br data-end="267" data-start="264" />\n&#128205\; <span style="color: rgb(33\, 37\, 41)\;">NJ Veterans Memorial Home at Menlo Park</span><br data-end="301" data-start="298" />\n132 Evergreen Rd\, Edison\, NJ</span></span></p>\n\n<p data-end="496" data-start="331"><span style="font-size:14px\;"><span style="font-family:tahoma\;">Enjoy a meaningful afternoon honoring our veterans over lunch\, celebrating National Military Appreciation Month. This special event is <strong data-end="424" data-start="416">FREE</strong> for Edison Chamber members and their guests &mdash\; but <strong data-end="495" data-start="475">RSVP is required</strong>!</span></span></p>\n\n<p data-end="565" data-start="498"><span style="font-size:14px\;"><span style="font-family:tahoma\;">Let&rsquo\;s come together to show our gratitude to those who&rsquo\;ve served.</span></span></p>\n\n<p data-end="616" data-start="567"><span style="font-size:14px\;"><span style="font-family:tahoma\;">&#128073\; RSVP today and be part of something special!</span></span></p>\n\n<p data-end="698" data-start="618">&nbsp\;</p>\n
LOCATION:NJ Veterans Memorial Home at Menlo Park 132 Evergreen Rd\, Edison\, NJ
UID:e.2325.5147
SEQUENCE:3
DTSTAMP:20260421T103000Z
URL:https://www.edisonchamber.com/events/details/lunch-with-veterans-05-22-25-5147
END:VEVENT

END:VCALENDAR
