BEGIN:VCALENDAR
VERSION:2.0
PRODID:-//ChamberMaster//Event Calendar 2.0//EN
METHOD:PUBLISH
X-PUBLISHED-TTL:P3D
REFRESH-INTERVAL:P3D
CALSCALE:GREGORIAN
BEGIN:VEVENT
DTSTART:20210212T150000Z
DTEND:20210212T160000Z
X-MICROSOFT-CDO-ALLDAYEVENT:FALSE
SUMMARY:Let's Talk COVID-19 Vaccines with Jay Elliot - 2/12/2021
DESCRIPTION:Join us on Zoom to hear Jay Elliot from the Edison Department of Health where he will discuss the COVID-19 vaccine. What is going on in NJ with the vaccine and your ability to receive it? Share your issues with him and let's talk solutions.
X-ALT-DESC;FMTTYPE=text/html:<br />\nJoin us on Zoom to hear Jay Elliot from the Edison Department of Health where he will discuss the COVID-19 vaccine. What is going on in NJ with the vaccine and your ability to receive it? Share your issues with him and let&#39\;s talk solutions.
LOCATION:Zoom
UID:e.2325.3631
SEQUENCE:3
DTSTAMP:20260421T170952Z
URL:https://www.edisonchamber.com/events/details/let-s-talk-covid-19-vaccines-with-jay-elliot-2-12-2021-3631
END:VEVENT

END:VCALENDAR
