BEGIN:VCALENDAR
VERSION:2.0
PRODID:-//ChamberMaster//Event Calendar 2.0//EN
METHOD:PUBLISH
X-PUBLISHED-TTL:P3D
REFRESH-INTERVAL:P3D
CALSCALE:GREGORIAN
BEGIN:VEVENT
DTSTART:20160820T150000Z
DTEND:20160820T230000Z
X-MICROSOFT-CDO-ALLDAYEVENT:FALSE
SUMMARY:Edison Food Truck Festival - 8/20/2016
DESCRIPTION:Join the Edison Chamber of Commerce for the first ever Edison Food Truck Festival.  More than 20 gourmet food trucks to tantalize your taste buds\, plus craft beer -- including Edison's own Cypress Brewery! -- and wine bar\, and a great DJ to top off the event.  Kids rides\, too!\n\n\n\nThe Festival runs from 11 a.m. to 7 p.m. and is essentially a huge tailgate party.  Bring blankets\, chairs\, or whatever you need to get comfortable.  Of course\, no outside food or drink or backpacks.\n\n\n\nSponsorships are available.  Call Joe or Tricia at (732) 738-9482 for more information.
X-ALT-DESC;FMTTYPE=text/html:Join the Edison Chamber of Commerce for the first ever Edison Food Truck Festival.&nbsp\; More than 20 gourmet food trucks to tantalize your taste buds\, plus craft beer -- including Edison&#39\;s own Cypress Brewery! -- and wine bar\, and a great DJ to top off the event.&nbsp\; Kids rides\, too!<br />\n<br />\nThe Festival runs from 11 a.m. to 7 p.m. and is essentially a huge tailgate party.&nbsp\; Bring blankets\, chairs\, or whatever you need to get comfortable. &nbsp\;Of course\, no outside food or drink or backpacks.<br />\n<br />\nSponsorships are available.&nbsp\; Call Joe or Tricia at (732) 738-9482 for more information.
LOCATION:Papaianni Park\, 100 Municipal Road\, Edison NJ.
UID:e.2325.1643
SEQUENCE:3
DTSTAMP:20260423T095429Z
URL:https://www.edisonchamber.com/events/details/edison-food-truck-festival-8-20-2016-1643
END:VEVENT

END:VCALENDAR
