BEGIN:VCALENDAR
VERSION:2.0
PRODID:-//ChamberMaster//Event Calendar 2.0//EN
METHOD:PUBLISH
X-PUBLISHED-TTL:P3D
REFRESH-INTERVAL:P3D
CALSCALE:GREGORIAN
BEGIN:VEVENT
DTSTART:20200617T004500Z
DTEND:20200617T024500Z
X-MICROSOFT-CDO-ALLDAYEVENT:FALSE
SUMMARY:Drive-In Movie - The Incredibles - 6/16/2020
DESCRIPTION:The Edison Chamber presents "The Incredibles" at our Drive-In Movie at the Pines Manor.\n\n\n\nSpots are limited to 35 cars. REGISTRATION IS REQUIRED. You must provide your license plate on your registration in order to have contactless check-in at the event.\n\n\n\nComplying with the Governor's rules\, we will keep the cars 6 feet apart\, in case some people choose to open their windows. The movie soundtrack will be played from a radio station that you will tune to. The parking lot opens at 7:00 p.m. Showtime is 8:45 p.m. The movie is 2 hours.\n\n\n\nFood will be available to purchase before and during the movie in a contactless format via The Pines Manor. Details will be on the screen when you arrive.\n\n\n\nThis event is weather permitting. If we need to cancel\, we will post it on our Facebook page by 6:00 pm on Tuesday\, June 16.\n\n\n\nSponsorships Available:  \nEvent Sponsor- $1000\n\n- Company name and logo listed as an Event Sponsor on website\n\n- Full-page advertisement displayed on the movie screen\n\n \nCorporate - $500\n\n- Company name and logo listed as a Corporate Sponsor on website\n\n-   page advertisement displayed on the movie screen\n\n \n\n\nFriend - $250\n\n- Company name and logo listed as a Friend Sponsor on website\n\n-   page advertisement displayed on the movie screen\n\n\n\nMessages & Videos:\n\n \nScreen a Message - $10\n\n- Write and display a special message on the movie screen (350 character limit)\n\n \n\nScreen a 15 Second Video - $25\n\n- Display a video on the movie screen (15-second limit)\n\n \n\nScreen a 30 Second Video - $50\n\n- Display a video on the movie screen (30-second limit)\n\n\n\nPlease send all messages\, videos (.mov)\, and logos (.jpeg or .png) to admin@edisonchamber.com\, two days prior to the event.
X-ALT-DESC;FMTTYPE=text/html:<div style="caret-color: rgb(0\, 0\, 0)\; text-size-adjust: auto\;"><span style="color: rgb(0\, 0\, 0)\; font-family: Tahoma\; font-size: 16px\;"><strong>The Edison Chamber presents &quot\;The Incredibles&quot\; at our&nbsp\;Drive-In Movie at the Pines Manor.</strong></span><br />\n<br />\n<span style="caret-color: rgb(0\, 0\, 0)\; color: rgb(0\, 0\, 0)\; font-family: Tahoma\; font-size: 16px\;">Spots are limited to 35 cars. REGISTRATION IS REQUIRED.&nbsp\;</span><span style="caret-color: rgb(0\, 0\, 0)\; color: rgb(0\, 0\, 0)\; font-family: Tahoma\; font-size: 16px\;">You must provide your license plate on your registration in order to have contactless check-in at the event.</span><br />\n<br />\n<span style="color: rgb(0\, 0\, 0)\; font-family: Tahoma\; font-size: 16px\;">Complying with the Governor&#39\;s rules\, we will&nbsp\;keep the cars&nbsp\;6 feet apart\, in case some people choose to open their windows. The movie soundtrack will be played&nbsp\;from a radio station that you will&nbsp\;tune to. The p</span><span style="color: rgb(0\, 0\, 0)\; font-family: Tahoma\; font-size: 16px\; caret-color: rgb(0\, 0\, 0)\;">arking lot opens at 7:00 p.m.&nbsp\;</span><span style="color: rgb(0\, 0\, 0)\; font-family: Tahoma\; font-size: 16px\; caret-color: rgb(0\, 0\, 0)\;">Showtime is&nbsp\;</span><span style="color: rgb(0\, 0\, 0)\; font-family: Tahoma\; font-size: 16px\; caret-color: rgb(0\, 0\, 0)\;">8:45 p.m. The movie is 2 hours.</span><br />\n<br />\n<span style="color: rgb(0\, 0\, 0)\; font-family: Tahoma\; font-size: 16px\;">Food will be available to purchase before and during the movie in a contactless format via The Pines Manor. Details will be on the screen when you arrive.<br />\n<br />\nThis event is weather permitting. If we need to cancel\, we will post it on our Facebook page by 6:00 pm on Tuesday\, June 16.</span><br />\n<br />\n<span style="font-size:22px\;"><strong><span style="color: rgb(0\, 0\, 0)\;">Sponsorships Available:</span></strong> </span>&nbsp\;\n<div style="caret-color: rgb(0\, 0\, 0)\;"><span style="font-size:16px\;"><strong>Event Sponsor- $1000</strong></span></div>\n\n<div style="caret-color: rgb(0\, 0\, 0)\;"><span style="font-size:16px\;">- Company name and logo listed as an Event Sponsor on website</span></div>\n\n<div style="caret-color: rgb(0\, 0\, 0)\;"><span style="font-size:16px\;">- Full-page advertisement displayed on the movie screen</span><br />\n&nbsp\;\n<div style="caret-color: rgb(0\, 0\, 0)\;"><span style="font-size:16px\;"><strong>Corporate - $500</strong></span></div>\n\n<div style="caret-color: rgb(0\, 0\, 0)\;"><span style="font-size:16px\;">- Company name and logo listed as a Corporate Sponsor on website</span></div>\n\n<div style="caret-color: rgb(0\, 0\, 0)\;"><span style="font-size:16px\;">- &frac12\; page advertisement displayed on the movie screen</span><br />\n&nbsp\;</div>\n</div>\n\n<div><span style="font-size:16px\;"><strong>Friend - $250</strong></span></div>\n\n<div><span style="font-size:16px\;">- Company name and logo listed as a Friend Sponsor on website</span></div>\n\n<div><span style="font-size:16px\;">- &frac14\; page advertisement displayed on the movie screen<br />\n<br />\n<span style="font-size:18px\;"><strong>Messages &amp\; Videos:</strong></span></span></div>\n\n<div>&nbsp\;\n<div><strong><span style="font-size:16px\;">Screen a Message - $10</span></strong></div>\n\n<div><span style="font-size:16px\;">- Write and display a special message on the movie screen (350 character limit)</span><br />\n&nbsp\;</div>\n\n<div><strong><span style="font-size:16px\;">Screen a 15 Second Video - $25</span></strong></div>\n\n<div><span style="font-size:16px\;">- Display a video on the movie screen (15-second limit)</span><br />\n&nbsp\;</div>\n\n<div><strong><span style="font-size:16px\;">Screen a 30 Second Video - $50</span></strong></div>\n\n<div><span style="font-size:16px\;">- Display a video on the movie screen (30-second limit)<br />\n<br />\nPlease send all messages\, videos (.mov)\, and logos (.jpeg or .png) to admin@edisonchamber.com\, two days prior to the event.</span><br />\n&nbsp\;</div>\n</div>\n<br />\n&nbsp\;</div>\n\n<div style="caret-color: rgb(0\, 0\, 0)\; color: rgb(0\, 0\, 0)\; font-family: Tahoma\; font-size: 14px\; text-size-adjust: auto\;">&nbsp\;</div>\n\n<div style="caret-color: rgb(0\, 0\, 0)\; color: rgb(0\, 0\, 0)\; font-family: Tahoma\; font-size: 14px\; text-size-adjust: auto\;">&nbsp\;</div>\n
LOCATION:Pines Manor Parking Lot 2085 Lincoln Hwy\, Edison\, NJ 08817
UID:e.2325.3361
SEQUENCE:3
DTSTAMP:20260421T190532Z
URL:https://www.edisonchamber.com/events/details/drive-in-movie-the-incredibles-6-16-2020-3361
END:VEVENT

END:VCALENDAR
