BEGIN:VCALENDAR
VERSION:2.0
PRODID:-//ChamberMaster//Event Calendar 2.0//EN
METHOD:PUBLISH
X-PUBLISHED-TTL:P3D
REFRESH-INTERVAL:P3D
CALSCALE:GREGORIAN
BEGIN:VEVENT
DTSTART:20200629T180000Z
DTEND:20200629T190000Z
X-MICROSOFT-CDO-ALLDAYEVENT:FALSE
SUMMARY:COVID-19 and Its Impact on the Workplace -6/29/2020
DESCRIPTION:Sign up for the Chamber's webinar to learn more about the Families First Coronavirus Response Act (FFCRA)\, the current status of unemployment\, and other leave and return to work issues due to COVID-19.\n\n \n\nFeatured Panelist: Tracy Armstrong\, ESQ\n\n \n\nTracy is a Shareholder in the Employment Law team at Wilentz\, Goldman & Spitzer\, P.A.  She has 25 years of experience helping employers navigate compliance with employment laws\, acts\, and regulations  Tracy conducts compliance training programs covering important employment law concerns  \n\n\n\nRegister here: https://attendee.gotowebinar.com/register/600297472536819727
X-ALT-DESC;FMTTYPE=text/html:<div style="caret-color: rgb(0\, 0\, 0)\; color: rgb(0\, 0\, 0)\; font-family: Tahoma\; font-size: 14px\; text-size-adjust: auto\;"><span style="font-size:16px\;"><span style="font-family:tahoma\;">Sign up for the Chamber&#39\;s&nbsp\;webinar&nbsp\;to learn more about the <span style="font-weight: bold\; color: rgb(95\, 99\, 104)\;">Families First Coronavirus Response Act (</span>FFCRA)\, the current status of unemployment\, and other leave&nbsp\;and return to work issues due to COVID-19.</span></span><br />\n&nbsp\;</div>\n\n<div style="caret-color: rgb(0\, 0\, 0)\; color: rgb(0\, 0\, 0)\; font-family: Tahoma\; font-size: 14px\; text-size-adjust: auto\;"><span style="font-size:16px\;"><span style="font-family:tahoma\;"><b>Featured Panelist</b>: Tracy Armstrong\, ESQ</span></span><br />\n&nbsp\;</div>\n\n<div style="caret-color: rgb(0\, 0\, 0)\; color: rgb(0\, 0\, 0)\; font-family: Tahoma\; font-size: 14px\; text-size-adjust: auto\;"><span style="font-size:16px\;"><span style="font-family:tahoma\;">Tracy is a Shareholder in the Employment Law team at Wilentz\, Goldman &amp\; Spitzer\, P.A.&nbsp\;&nbsp\;</span></span><span style="font-size:16px\;"><span style="font-family:tahoma\;">She has 25 years of experience helping employers navigate compliance with employment laws\, acts\, and regulations&nbsp\; Tracy conducts compliance training programs covering important employment law concerns&nbsp\;&nbsp\;<br />\n<br />\nRegister here:&nbsp\;</span></span><a href="https://attendee.gotowebinar.com/register/600297472536819727" style="font-family: Tahoma\; font-size: 14px\; text-size-adjust: auto\;">https://attendee.gotowebinar.com/register/600297472536819727</a></div>\n
LOCATION:Webinar
UID:e.2325.3371
SEQUENCE:3
DTSTAMP:20260421T190324Z
URL:https://www.edisonchamber.com/events/details/covid-19-and-its-impact-on-the-workplace-6-29-2020-06-29-2020-3371
END:VEVENT

END:VCALENDAR
