BEGIN:VCALENDAR
VERSION:2.0
PRODID:-//ChamberMaster//Event Calendar 2.0//EN
METHOD:PUBLISH
X-PUBLISHED-TTL:P3D
REFRESH-INTERVAL:P3D
CALSCALE:GREGORIAN
BEGIN:VEVENT
DTSTART:20200929T213000Z
DTEND:20200929T233000Z
X-MICROSOFT-CDO-ALLDAYEVENT:FALSE
SUMMARY:Coping with Addiction in the Workplace & Community - 9/29/2020
DESCRIPTION:Co-hosted by Woodbridge Metro Chamber of Commerce\n\n\n\nGuest Speakers:\n\nSenator Patrick J. Diegnan Jr. - Speaker\n\nPat Coyle - Speaker\n\nEric Morrell\, Esq. - Treatment Advocate and Attorney\n\nBonnie Nolan - Coordinator of Addiction Services in Woodbridge Township\n\n \n\n\n\n\n\nRegister here: https://register.gotowebinar.com/register/825491749439397899
X-ALT-DESC;FMTTYPE=text/html:<span style="font-size:16px\;"><span style="font-family:arial\;"><strong>Co-hosted by Woodbridge Metro Chamber of Commerce</strong><br />\n<br />\n<strong>Guest Speakers:</strong></span></span><br />\n<strong><span style="color:#5f6368\;">Senator Patrick</span><span style="color:#4d5156\;">&nbsp\;J.&nbsp\;</span><span style="color:#5f6368\;">Diegnan</span></strong><span style="color:#4d5156\;"><strong>&nbsp\;Jr. </strong>-<strong>&nbsp\;</strong>Speaker</span><br />\n<strong>Pat Coyle</strong> -&nbsp\;Speaker<br />\n<strong><span style="color:#333333\;">Eric Morrell\, Esq.</span></strong>&nbsp\;- T<span style="color:#333333\;">reatment Advocate and Attorney</span><br />\n<strong>Bonnie Nolan&nbsp\;</strong>-&nbsp\;<span style="color:#333333\;">Coordinator of Addiction Services in Woodbridge Township</span><br />\n&nbsp\;<br />\n<br />\n<br />\n<span style="font-size:16px\;"><span style="font-family:arial\;"><b>Register here:&nbsp\;</b></span></span>https://register.gotowebinar.com/register/825491749439397899
LOCATION:Virtual Webinar
UID:e.2325.3386
SEQUENCE:3
DTSTAMP:20260421T134513Z
URL:https://www.edisonchamber.com/events/details/coping-with-addiction-in-the-workplace-community-9-29-2020-3386
END:VEVENT

END:VCALENDAR
