BEGIN:VCALENDAR
VERSION:2.0
PRODID:-//ChamberMaster//Event Calendar 2.0//EN
METHOD:PUBLISH
X-PUBLISHED-TTL:P3D
REFRESH-INTERVAL:P3D
CALSCALE:GREGORIAN
BEGIN:VEVENT
DTSTART:20200608T213000Z
DTEND:20200608T223000Z
X-MICROSOFT-CDO-ALLDAYEVENT:FALSE
SUMMARY:Coping with Addiction in the Workplace & Community 6/8/2020
DESCRIPTION:Co-hosted by Woodbridge Metro Chamber of Commerce\n\n\n\nGuest Speakers:\n\nBonnie Nolan - Coordinator of Addiction Services in Woodbridge Township\n\nEric Morrell\, Esq. - Treatment Advocate and Attorney\n\nJoe Chelbowski - Clinician at Recovery Centers of America\n\nJames Cunningham\, LCSW - Executive Director\, The Center for Behavioral Health\, JFK Medical Center\n\n\n\nRegister Here
X-ALT-DESC;FMTTYPE=text/html:<span style="font-size:16px\;"><span style="font-family:arial\;"><strong>Co-hosted by Woodbridge Metro Chamber of Commerce</strong><br />\n<br />\n<strong>Guest Speakers:</strong><br />\n<strong>Bonnie Nolan </strong>- Coordinator of Addiction Services in Woodbridge Township<br />\n<strong>Eric Morrell\, Esq.</strong> - Treatment Advocate and Attorney<br />\n<strong>Joe Chelbowski </strong>- Clinician at Recovery Centers of America<br />\n<strong>James Cunningham\, LCSW</strong> -&nbsp\;</span><span style="caret-color: rgb(0\, 0\, 0)\; color: rgb(0\, 0\, 0)\; text-size-adjust: auto\;">Executive Director\,&nbsp\;The Center for Behavioral Health\,&nbsp\;JFK Medical Center<br />\n<br />\nRegister <a href="https://attendee.gotowebinar.com/register/3589577117925224971" target="_blank"><u><strong>H</strong></u></a><u><strong><a href="https://attendee.gotowebinar.com/register/3589577117925224971" target="_blank">ere</a></strong></u></span></span>
LOCATION:Virtual Webinar
UID:e.2325.3360
SEQUENCE:3
DTSTAMP:20260421T185928Z
URL:https://www.edisonchamber.com/events/details/coping-with-addiction-in-the-workplace-community-6-8-2020-3360
END:VEVENT

END:VCALENDAR
