BEGIN:VCALENDAR
VERSION:2.0
PRODID:-//ChamberMaster//Event Calendar 2.0//EN
METHOD:PUBLISH
X-PUBLISHED-TTL:P3D
REFRESH-INTERVAL:P3D
CALSCALE:GREGORIAN
BEGIN:VEVENT
DTSTART:20201027T213000Z
DTEND:20201027T233000Z
X-MICROSOFT-CDO-ALLDAYEVENT:FALSE
SUMMARY:Coping with Addiction in the Workplace & Community - 10/27/2020
DESCRIPTION:Co-hosted by Woodbridge Metro Chamber of Commerce\n\n \n\nAlmost 21 million Americans have at least one addiction\, yet only 10% of them receive treatment. Drug overdose deaths have more than tripled since 1990. \n\n\n\nContrary to popular belief\, most Americans struggling with a substance use disorder continue to hold down a job. According to the National Council on Alcoholism and Drug Dependence (NCADD)\, more than 70 percent of those abusing illicit drugs in America are employed\, as are most binge drinkers. The most common illicit drugs abused on the job are marijuana and cocaine.\n\n\n\nDrug abuse and addiction cost American companies $81 billion every year. Learn what you can do in your workplace and community to help combat this.\n\n\n\nGuest Speakers:\n\nMayor Jonathan M. Busch - Borough of Metuchen\n\n\n\nDr. Bonnie Dolan - Coordinator of Addiction Services in Woodbridge Township\n\n\n\nJean-Luc Neptune\, MD\, MBA - Founder of Suntra Modern Recovery\n\n\n\nEric Morrell\, Esq. - Treatment Advocate and Attorney\n\n\n\nCaptain Kenneth Schreck\, Edison Police Department\n\n\n\n \n\n\n\nRegister here:  https://register.gotowebinar.com/register/465605101876776716
X-ALT-DESC;FMTTYPE=text/html:<p><span style="font-size:20px\;"><strong>Co-hosted by Woodbridge Metro Chamber of Commerce</strong></span><br />\n&nbsp\;</p>\n\n<p style="box-sizing: border-box\; position: relative\; margin-bottom: 1rem\; line-height: 1.25rem\; counter-increment: ContentListCounter 1\;"><span style="font-family:tahoma\,sans-serif\;">Almost 21 million Americans have at least one addiction\, yet only 10% of them receive treatment.&nbsp\;Drug overdose deaths have more than tripled since 1990.&nbsp\;</span><br />\n<br />\n<span style="font-family:tahoma\,sans-serif\;">Contrary to popular belief\, most Americans struggling with a substance use disorder continue to hold down a job. According to the National Council on Alcoholism and Drug Dependence (NCADD)\, more than 70 percent of those abusing illicit drugs in America are employed\, as are most binge drinkers. The most common illicit drugs abused on the job are marijuana and cocaine.</span><br />\n<br />\n<span style="font-family:tahoma\,sans-serif\;">Drug abuse and addiction cost American companies $81 billion every year. Learn what you can do in your workplace and community to help combat this.</span></p>\n\n<p><br />\n<span style="font-size:18px\;"><strong><u>Guest Speakers:</u></strong></span></p>\n\n<p><span style="font-family:tahoma\;"><strong style="font-size: 14px\;"><span style="color:#1c1e21\;">Mayor Jonathan M. Busch</span></strong><span style="font-size: 14px\; color: rgb(28\, 30\, 33)\;"> - Borough of Metuchen</span><br />\n<br />\n<span style="font-size: 11px\;"><strong><span style="font-size:14px\;">Dr. Bonnie Dolan</span></strong>&nbsp\;</span><span style="font-size: 14px\;">-&nbsp\;Coordinator of Addiction Services in Woodbridge Township</span><br />\n<br />\n<strong style="font-size: 14px\;">Jean-Luc Neptune\, MD\, MBA</strong><span style="font-size: 14px\;">&nbsp\;-&nbsp\;Founder of Suntra Modern Recovery</span><br />\n<br />\n<strong style="font-size: 14px\;">Eric Morrell\, Esq.</strong><span style="font-size: 14px\;">&nbsp\;- Treatment Advocate and Attorney</span><br />\n<br />\n<strong style="font-size: 14px\;">Captain Kenneth Schreck</strong><span style="font-size: 14px\;">\, Edison Police Department</span></span><br />\n<br />\n&nbsp\;<br />\n<br />\n<strong>Register here:</strong>&nbsp\; https://register.gotowebinar.com/register/465605101876776716</p>\n
LOCATION:Virtual Webinar
UID:e.2325.3399
SEQUENCE:3
DTSTAMP:20260421T121100Z
URL:https://www.edisonchamber.com/events/details/coping-with-addiction-in-the-workplace-community-10-27-2020-3399
END:VEVENT

END:VCALENDAR
