BEGIN:VCALENDAR
VERSION:2.0
PRODID:-//ChamberMaster//Event Calendar 2.0//EN
METHOD:PUBLISH
X-PUBLISHED-TTL:P3D
REFRESH-INTERVAL:P3D
CALSCALE:GREGORIAN
BEGIN:VEVENT
DTSTART:20201001T193000Z
DTEND:20201001T203000Z
X-MICROSOFT-CDO-ALLDAYEVENT:FALSE
SUMMARY:CARES Act Seminar with Assemblyman Robert Karabinchak - 10/1/2020
DESCRIPTION:Assemblyman Robert Karabinchak will be discussing The CARES Act on a Zoom seminar. The CARES Act provides fast and direct economic assistance for American workers\, families\, and small businesses affected by the 2020 coronavirus pandemic. \nEdison is to receive $884\,324 in CARES Act Funding\, Mayor Lankey will determine who gets the funds.\n\nThe CARES Act requires that the payments from the Coronavirus Relief Fund only be used to cover expenses that\;\n\n1. are necessary expenditures incurred due to the public health emergency with respect to the Coronavirus Disease 2019 (COVID 19)\;\n\n2. were not accounted for in the budget most recently approved as of March 27\, 2020 (the date of enactment of the CARES Act) for the State or government\; and\n\n3. were incurred during the period that begins on March 1\, 2020\, and ends on December 30\, 2020\n\n\n\nEligible Expenditures:\n\n\n	Medical expenses related to COVID-19 such as\; COVID-19 related expenses for hospitals\, clinics\, temporary treatment facilities\, testing\, transportation\, telemedicine\, etc.\n	Expenses associated with the provision of economic support such as\; grants to small businesses to reimburse the costs of required closures\, Government payroll support\, unemployment insurance costs\, small landlord grant programs\, etc.\n	Public health expenses related to COVID-19 such as\; communication and enforcement\, distribution of supplies\, disinfection and sanitation of public areas\, public safety measures\, etc.\n	Payroll expenses for public safety\, public health\, health care\, human services\, and similar employees whose services are substantially dedicated to mitigating or responding to the COVID- 19 public health emergency.\n	Expenses to facilitate compliance with COVID-19 such as\; food delivery to residents and the vulnerable population\, facilitate distance learning like technological improvements\, improving telework capabilities\, paid sick\, family and medical leave to public employees\, maintaining prisons\, care for the homelessness\, etc.\n\n\n\nThere will be a Q & A.
X-ALT-DESC;FMTTYPE=text/html:<span style="font-family:tahoma\;"><span style="font-size:14px\;">Assemblyman Robert Karabinchak will be discussing&nbsp\;The CARES Act on a Zoom seminar. The CARES Act provides&nbsp\;fast and direct&nbsp\;economic assistance for American workers\, families\, and small businesses&nbsp\;affected by the&nbsp\;2020&nbsp\;coronavirus pandemic.&nbsp\;</span></span>\n<p color:="" font-size:="" style="margin: 6px 0px\; font-family: system-ui\, -apple-system\, system-ui\, "><span style="font-family:tahoma\;"><span style="font-size:14px\;">Edison is to receive $884\,324 in CARES Act Funding\, Mayor Lankey will determine who gets the funds.</span></span></p>\n\n<p color:="" font-size:="" style="margin: 6px 0px\; font-family: system-ui\, -apple-system\, system-ui\, "><span style="font-family:tahoma\;"><span style="font-size:14px\;">The CARES Act requires that the payments from the Coronavirus Relief Fund only be used to cover expenses that\;<br />\n<span class="text_exposed_show" style="display: inline\;">1. are necessary expenditures incurred due to the public health emergency with respect to the Coronavirus Disease 2019 (COVID&ndash\;19)\;<br />\n2. were not accounted for in the budget most recently approved as of March 27\, 2020 (the date of enactment of the CARES Act) for the State or government\; and<br />\n3. were incurred during the period that begins on March 1\, 2020\, and ends on December 30\, 2020</span><br />\n<br />\n<strong><span style="color:#393b3e\;">Eligible Expenditures:</span></strong></span></span></p>\n\n<ul>\n	<li style="margin:2pt 0in 0in\;font-size:11pt\;font-family:Calibri\, sans-serif\;color:rgb(57\, 59\, 62)\;vertical-align:baseline\;"><span style="font-family:tahoma\;"><span style="font-size:14px\;">Medical expenses related to COVID-19 such as\; COVID-19 related expenses for hospitals\, clinics\, temporary treatment facilities\, testing\, transportation\, telemedicine\, etc.</span></span></li>\n	<li style="font-size:11pt\;font-family:Calibri\, sans-serif\;color:rgb(57\, 59\, 62)\;vertical-align:baseline\;"><span style="font-family:tahoma\;"><span style="font-size:14px\;">Expenses associated with the provision of economic support such as\; grants to small businesses to reimburse the costs of required closures\, Government payroll support\, unemployment insurance costs\, small landlord grant programs\, etc.</span></span></li>\n	<li style="font-size:11pt\;font-family:Calibri\, sans-serif\;color:rgb(57\, 59\, 62)\;vertical-align:baseline\;"><span style="font-family:tahoma\;"><span style="font-size:14px\;">Public health expenses related to COVID-19 such as\; communication and enforcement\, distribution of supplies\, disinfection and sanitation of public areas\, public safety measures\, etc.</span></span></li>\n	<li style="font-size:11pt\;font-family:Calibri\, sans-serif\;vertical-align:baseline\;"><span style="font-family:tahoma\;"><span style="font-size:14px\;"><span style="color:#393b3e\;">Payroll expenses for public safety\, public health\, health care\, human services\, and similar employees whose services are substantially dedicated to mitigating or responding to the COVID- 19 public health emergency.</span></span></span></li>\n	<li style="margin:0in 0in 8pt\;font-size:11pt\;font-family:Calibri\, sans-serif\;color:rgb(57\, 59\, 62)\;vertical-align:baseline\;"><span style="font-family:tahoma\;"><span style="font-size:14px\;">Expenses to facilitate compliance with COVID-19 such as\; food delivery to residents and the vulnerable population\, facilitate distance learning like technological improvements\, improving telework capabilities\, paid sick\, family and medical leave to public employees\, maintaining prisons\, care for the homelessness\, etc.</span></span></li>\n</ul>\n<br />\n<span style="font-family:tahoma\;"><span style="font-size:14px\;">There will be a Q &amp\; A.</span></span><br />\n&nbsp\;
LOCATION:Virtual Zoom
UID:e.2325.3391
SEQUENCE:3
DTSTAMP:20260421T122500Z
URL:https://www.edisonchamber.com/events/details/cares-act-seminar-with-assemblyman-robert-karabinchak-10-1-2020-3391
END:VEVENT

END:VCALENDAR
