BEGIN:VCALENDAR
VERSION:2.0
PRODID:-//ChamberMaster//Event Calendar 2.0//EN
METHOD:PUBLISH
X-PUBLISHED-TTL:P3D
REFRESH-INTERVAL:P3D
CALSCALE:GREGORIAN
BEGIN:VEVENT
DTSTART:20200922T150000Z
DTEND:20200923T003000Z
X-MICROSOFT-CDO-ALLDAYEVENT:FALSE
SUMMARY:47th Annual Edison Chamber of Commerce Golf Outing - 9/22/2020
DESCRIPTION:The Greater Edison Chamber of Commerce 47th Annual Golf Outing\n\n\n\nis a great opportunity to reward your employees\, treat your customers\, and make connections with business\, community and governmental leaders from throughout Central New Jersey.\n\nIt's also a great time every year\, hosted by the beautiful Metuchen Golf and Country Club\, its championship golf course\, and its award-winning dinner and hospitality.\n\n\n\nEnjoy a socially distant\, amazing outside networking event. The BBQ lunch\, cocktail hour\, and dinner will be held poolside under a tent.\n\nIf you don't golf (and a lot of us don't) the evening reception and dinner is a huge networking event with more than 150 area leaders ready to talk and make a connection with you.\n\n\n\nSilent Auction: https://edisonchamber.afrogs.org/#/index
X-ALT-DESC;FMTTYPE=text/html:<p font-size:="" line-height:="" style="color: rgb(51\, 51\, 51)\; font-family: sans-serif\, Arial\, Verdana\, " trebuchet=""><span style="font-size:16px\;"><strong>The Greater Edison Chamber of Commerce 47th Annual Golf Outing</strong></span><br />\n<br />\nis a great opportunity to reward your employees\, treat&nbsp\;your customers\, and make connections with business\, community and governmental leaders from throughout Central New Jersey.</p>\n\n<p font-size:="" line-height:="" style="color: rgb(51\, 51\, 51)\; font-family: sans-serif\, Arial\, Verdana\, " trebuchet="">It&#39\;s also a great time every year\, hosted by the beautiful&nbsp\;Metuchen&nbsp\;Golf and Country Club\, its championship golf course\, and its award-winning dinner and hospitality.<br />\n<br />\n<span font-size:="" style="color: rgb(29\, 33\, 41)\; font-family: system-ui\, -apple-system\, system-ui\, " white-space:="">Enjoy a socially distant\, amazing outside networking event. The BBQ lunch\, cocktail hour\, and dinner will be held poolside under a tent.</span></p>\n\n<p font-size:="" line-height:="" style="color: rgb(51\, 51\, 51)\; font-family: sans-serif\, Arial\, Verdana\, " trebuchet="">If you don&#39\;t golf (and a lot of us don&#39\;t) the evening reception and dinner is a huge networking event with more than 150 area leaders&nbsp\;ready to talk and make a connection with you.<br />\n<br />\n<strong>Silent Auction:&nbsp\;</strong><span style="font-size: 11pt\; font-family: Calibri\, sans-serif\; color: rgb(31\, 73\, 125)\;"><a href="https://edisonchamber.afrogs.org/#/index" target="_blank">https://edisonchamber.afrogs.org/#/index</a></span></p>\n
LOCATION:Metuchen Golf and Country Club 244 Plainfield Road\, Edison NJ Here are the protocols being followed at the Metuchen Golf and Country Club: MGCC
UID:e.2325.3291
SEQUENCE:3
DTSTAMP:20260421T134719Z
URL:https://www.edisonchamber.com/events/details/47th-annual-edison-chamber-of-commerce-golf-outing-9-22-2020-3291
END:VEVENT

END:VCALENDAR
