BEGIN:VCALENDAR
VERSION:2.0
PRODID:-//ChamberMaster//Event Calendar 2.0//EN
METHOD:PUBLISH
X-PUBLISHED-TTL:P3D
REFRESH-INTERVAL:P3D
CALSCALE:GREGORIAN
BEGIN:VEVENT
DTSTART:20200515T150000Z
DTEND:20200515T180000Z
X-MICROSOFT-CDO-ALLDAYEVENT:FALSE
SUMMARY:3rd Annual Workplace Health & Wellness Expo: CANCELED
DESCRIPTION:Join us for the premier Workplace Health & Wellness Expo of 2020!\n\n \nTake advantage of our FREE HEALTH SCREENING and FREE HEALTHY LUNCH at our Workplace Health & Wellness Expo.\n\n\n\n\n\nSponsorships\, Exhibitor Tables\, and Program Advertising are available. All exhibitor tables must be approved by the Chamber.
X-ALT-DESC;FMTTYPE=text/html:<br />\n<span style="font-family:tahoma\;"><span style="font-size:16px\;">Join us for the premier <strong>Workplace Health &amp\; Wellness Expo </strong>of 2020!</span></span><br />\n&nbsp\;\n<p style="margin: 0px 0px 6px\; font-family: Helvetica\, Arial\, sans-serif\; color: rgb(29\, 33\, 41)\; font-size: 14px\; background-color: rgb(255\, 255\, 255)\;"><span style="font-family:tahoma\;">Take advantage of our FREE HEALTH SCREENING and FREE HEALTHY LUNCH at our Workplace Health &amp\; Wellness Expo.</span><br />\n<br />\n<br />\n<span style="font-family:tahoma\;"><span style="font-size:14px\;"><strong><span style="color: rgb(51\, 51\, 51)\;">Sponsorships\, Exhibitor Tables\, and Program Advertising are available. All exhibitor tables must be approved by the Chamber.</span></strong></span></span></p>\n<br />\n<br />\n&nbsp\;
LOCATION:Pines Manor 2085 NJ-27 Edison\, NJ 08817
UID:e.2325.3288
SEQUENCE:3
DTSTAMP:20260421T202840Z
URL:https://www.edisonchamber.com/events/details/3rd-annual-workplace-health-wellness-expo-canceled-3288
END:VEVENT

END:VCALENDAR
