BEGIN:VCALENDAR
VERSION:2.0
PRODID:-//ChamberMaster//Event Calendar 2.0//EN
METHOD:PUBLISH
X-PUBLISHED-TTL:P3D
REFRESH-INTERVAL:P3D
CALSCALE:GREGORIAN
BEGIN:VEVENT
DTSTART:20210225T223000Z
DTEND:20210226T013000Z
X-MICROSOFT-CDO-ALLDAYEVENT:FALSE
SUMMARY:30th Annual State of the Township with Mayor Lankey - 2/25/2021
DESCRIPTION:The 30th Annual State of Edison Township is an opportunity for community and business leaders to meet and network with each other\, as well as hear from Mayor Tom Lankey about the past year and his administration's goals for the coming year.\n\n\n\nSponsorships Available
X-ALT-DESC;FMTTYPE=text/html:<div style="text-align: center\;"><br />\n<span style="font-size:14px\;"><span style="font-family:tahoma\;"><span style="color: rgb(51\, 51\, 51)\; background-color: rgb(255\, 255\, 255)\; line-height: 18.9091px\;">The <strong>30th Annual</strong> <strong>State of Edison Township </strong>is an opportunity for community and business leaders to meet and network with each other\, as well as hear from Mayor Tom&nbsp\;</span>Lankey<span style="color: rgb(51\, 51\, 51)\; background-color: rgb(255\, 255\, 255)\; line-height: 18.9091px\;">&nbsp\;about the past year and his administration&#39\;s goals for the coming year.<br />\n<br />\n<strong>Sponsorships Available</strong></span></span></span></div>\n
LOCATION:Pines Manor 2085 NJ-27 Edison\, NJ 08817
UID:e.2325.3395
SEQUENCE:3
DTSTAMP:20260421T154347Z
URL:https://www.edisonchamber.com/events/details/30th-annual-state-of-the-township-with-mayor-lankey-2-25-2021-3395
END:VEVENT

END:VCALENDAR
