BEGIN:VCALENDAR
VERSION:2.0
PRODID:-//ChamberMaster//Event Calendar 2.0//EN
METHOD:PUBLISH
X-PUBLISHED-TTL:P3D
REFRESH-INTERVAL:P3D
CALSCALE:GREGORIAN
BEGIN:VEVENT
DTSTART;VALUE=DATE:20250627
DTEND;VALUE=DATE:20250628
TRANSP:TRANSPARENT
X-MICROSOFT-CDO-ALLDAYEVENT:TRUE
SUMMARY:26th Annual Edison Awards Nominations Due - 06/27/25
DESCRIPTION:Who Are the Best in Edison? Nominate Now!\n\nThe Edison Chamber of Commerce proudly presents the 26th Annual Best in Edison Awards\, celebrating individuals and organizations that go above and beyond to make our community thrive. We invite you to recognize the leaders\, innovators\, and changemakers who exemplify excellence in their fields.\n\n  Nominate by June 27\, 2025  \n\nAward Categories:\n\n\n	\n	Chamber Member of the Year\n	\n	\n	Outstanding Business of the Year\n	\n	\n	Citizen of the Year\n	\n	\n	Organization of the Year\n	\n	\n	Hotel\, Restaurant\, or Hospitality of the Year\n	\n	\n	Entrepreneur of the Year\n	\n	\n	Young Entrepreneur of the Year (ages 15 25)\n	\n	\n	Vocational Student of the Year\n	\n	\n	Veteran's Business of the Year\n	\n\n\nWhether it's a dedicated student\, a trailblazing entrepreneur\, or a local business making a difference now's the time to shine a light on their impact.\n\n  Submit your nominations here or print out the flyer below:\n\nhttp://jaimidevtesti.chambermaster.com/form/view/36289\n\nLet's celebrate the very best of Edison together!
X-ALT-DESC;FMTTYPE=text/html:<p data-end="45" data-start="0"><span style="font-size:14px\;"><span style="font-family:tahoma\;"><strong data-end="45" data-start="0">Who Are the Best in Edison? Nominate Now!</strong></span></span></p>\n\n<p data-end="345" data-start="47"><span style="font-size:14px\;"><span style="font-family:tahoma\;">The Edison Chamber of Commerce proudly presents the <strong data-end="136" data-start="99">26th Annual Best in Edison Awards</strong>\, celebrating individuals and organizations that go above and beyond to make our community thrive. We invite you to recognize the leaders\, innovators\, and changemakers who exemplify excellence in their fields.</span></span></p>\n\n<p data-end="382" data-start="347"><span style="font-size:14px\;"><span style="font-family:tahoma\;">&#127775\; <strong data-end="379" data-start="350">Nominate by June 27\, 2025</strong> &#127775\;</span></span></p>\n\n<p data-end="405" data-start="384"><span style="font-size:14px\;"><span style="font-family:tahoma\;"><strong data-end="405" data-start="384">Award Categories:</strong></span></span></p>\n\n<ul data-end="741" data-start="406">\n	<li data-end="438" data-start="406">\n	<p data-end="438" data-start="408"><span style="font-size:14px\;"><span style="font-family:tahoma\;"><strong data-end="438" data-start="408">Chamber Member of the Year</strong></span></span></p>\n	</li>\n	<li data-end="477" data-start="439">\n	<p data-end="477" data-start="441"><span style="font-size:14px\;"><span style="font-family:tahoma\;"><strong data-end="477" data-start="441">Outstanding Business of the Year</strong></span></span></p>\n	</li>\n	<li data-end="503" data-start="478">\n	<p data-end="503" data-start="480"><span style="font-size:14px\;"><span style="font-family:tahoma\;"><strong data-end="503" data-start="480">Citizen of the Year</strong></span></span></p>\n	</li>\n	<li data-end="534" data-start="504">\n	<p data-end="534" data-start="506"><span style="font-size:14px\;"><span style="font-family:tahoma\;"><strong data-end="534" data-start="506">Organization of the Year</strong></span></span></p>\n	</li>\n	<li data-end="586" data-start="535">\n	<p data-end="586" data-start="537"><span style="font-size:14px\;"><span style="font-family:tahoma\;"><strong data-end="586" data-start="537">Hotel\, Restaurant\, or Hospitality of the Year</strong></span></span></p>\n	</li>\n	<li data-end="617" data-start="587">\n	<p data-end="617" data-start="589"><span style="font-size:14px\;"><span style="font-family:tahoma\;"><strong data-end="617" data-start="589">Entrepreneur of the Year</strong></span></span></p>\n	</li>\n	<li data-end="667" data-start="618">\n	<p data-end="667" data-start="620"><span style="font-size:14px\;"><span style="font-family:tahoma\;"><strong data-end="654" data-start="620">Young Entrepreneur of the Year</strong> (ages 15&ndash\;25)</span></span></p>\n	</li>\n	<li data-end="704" data-start="668">\n	<p data-end="704" data-start="670"><span style="font-size:14px\;"><span style="font-family:tahoma\;"><strong data-end="704" data-start="670">Vocational Student of the Year</strong></span></span></p>\n	</li>\n	<li data-end="741" data-start="705">\n	<p data-end="741" data-start="707"><span style="font-size:14px\;"><span style="font-family:tahoma\;"><strong data-end="741" data-start="707">Veteran&#39\;s Business of the Year</strong></span></span></p>\n	</li>\n</ul>\n\n<p data-end="898" data-start="743"><span style="font-size:14px\;"><span style="font-family:tahoma\;">Whether it&rsquo\;s a dedicated student\, a trailblazing entrepreneur\, or a local business making a difference&mdash\;<strong data-end="897" data-start="846">now&rsquo\;s the time to shine a light on their impact</strong>.</span></span></p>\n\n<p data-end="946" data-start="900"><span style="font-size:14px\;"><span style="font-family:tahoma\;">&#128221\; Submit your nominations here or print out the flyer below:</span></span></p>\n\n<p data-end="946" data-start="900"><span style="font-size:14px\;"><span style="font-family:tahoma\;"><span style="color: rgb(100\, 49\, 130)\; text-decoration-line: underline\;">http://jaimidevtesti.chambermaster.com/form/view/36289</span></span></span></p>\n\n<p data-end="997" data-is-last-node="" data-is-only-node="" data-start="948"><span style="font-size:14px\;"><span style="font-family:tahoma\;">Let&rsquo\;s celebrate the very best of Edison together!</span></span></p>\n<br />\n<br />\n<br />\n<br />\n<br />\n<br />\n&nbsp\;
LOCATION:
UID:e.2325.5150
SEQUENCE:3
DTSTAMP:20260425T165115Z
URL:https://www.edisonchamber.com/events/details/26th-annual-edison-awards-nominations-due-06-27-25-5150
END:VEVENT

END:VCALENDAR
