BEGIN:VCALENDAR
VERSION:2.0
PRODID:-//ChamberMaster//Event Calendar 2.0//EN
METHOD:PUBLISH
X-PUBLISHED-TTL:P3D
REFRESH-INTERVAL:P3D
CALSCALE:GREGORIAN
BEGIN:VEVENT
DTSTART:20201015T213000Z
DTEND:20201016T000000Z
X-MICROSOFT-CDO-ALLDAYEVENT:FALSE
SUMMARY:21st Annual Meeting/Awards Reception - CANCELED
DESCRIPTION:The Greater Edison Chamber of Commerce is pleased to host its 21st Annual Meeting and Awards Reception this year at the Pines Manor.  Each year the Edison Chamber honors more than a dozen businesses\, individuals\, non-profits\, and teachers who have made a difference in the lives of Edison residents.\n\n\n\nPlease submit your nominations by June 15\, 2020\n\n\n\nCategories:\n\nChamber Member of the Year\n\nOutstanding Business of the Year\n\nCitizen of the year\n\nOrganization of the Year\n\nNon-Profit Organization of the Year\n\nHotel\, Restaurant\, or Hospitality of the Year\n\nEntrepreneur of the Year\n\nYoung Entrepreneur of the Year (15-25 years of age)\n\nVocational Student of Year\n\nVeteran's Business of the Year\n\nEducator of the Year
X-ALT-DESC;FMTTYPE=text/html:<br />\n<span style="font-size:16px\;"><span style="font-size:18px\;">The Greater Edison Chamber of Commerce is pleased to host its 21st Annual Meeting and Awards Reception this year at the Pines Manor.&nbsp\; Each year the Edison Chamber honors more than a dozen businesses\, individuals\, non-profits\, and teachers who have made a difference in the lives of Edison residents.<br />\n<br />\nPlease submit your nominations by June 15\, 2020<br />\n<br />\n<strong>Categories:</strong></span></span><br />\n<span style="font-size:18px\;">Chamber Member of the Year<br />\nOutstanding Business of the Year<br />\nCitizen of the year<br />\nOrganization of the Year<br />\nNon-Profit Organization of the Year<br />\nHotel\, Restaurant\, or Hospitality of the Year<br />\nEntrepreneur of the Year<br />\nYoung&nbsp\;Entrepreneur of the Year (15-25 years of age)<br />\nVocational Student of Year<br />\nVeteran&#39\;s Business of the Year<br />\nEducator of the Year</span>
LOCATION:Pines Manor 2085 NJ-27 Edison\, NJ 08817
UID:e.2325.3330
SEQUENCE:3
DTSTAMP:20260421T120339Z
URL:https://www.edisonchamber.com/events/details/21st-annual-meeting-awards-reception-canceled-3330
END:VEVENT

END:VCALENDAR
