BEGIN:VCALENDAR
VERSION:2.0
PRODID:-//ChamberMaster//Event Calendar 2.0//EN
METHOD:PUBLISH
X-PUBLISHED-TTL:P3D
REFRESH-INTERVAL:P3D
CALSCALE:GREGORIAN
BEGIN:VEVENT
DTSTART:20230819T200000Z
DTEND:20230820T020000Z
X-MICROSOFT-CDO-ALLDAYEVENT:FALSE
SUMMARY:2023 Food\, Wine\, and Beer Festival - 8/19/2023
DESCRIPTION:Come enjoy Edison's ONLY outdoor Food\, Wine\, and Beer Festival for our 6th annual event! \n\n\n\nFood trucks\, wine\, craft beer\, sangria\, live bands\, and local vendors.\n\n\n\nYou must be 21 to drink. Any age to eat.\n\n\n\nThere are 275 on-street parking spaces.\n\n\n\nRain or Shine\n\n\n\n \nBEERS:\n\nAsbury Park Brewery - Blonde\n\nAsbury Park Brewery -  Sea Dragon\n\nBonesaw Brewing - Crimson Skull Lager\n\nBonesaw Brewing - LePetit Demon\n\nBrix City Brewing - IPAs Jam Lineup\n\nBud Lite\n\nCape May Brewing - Crushin it Mango\n\nCape May Brewing - Crushin it Orange\n\nCarton IPA - 077xx\n\nCarton IPA - Boat\n\nCypress Brewing - Alva \n\nCypress Brewing - Baby Insane \n\nCypress Brewing - Colosal Lime \n\nCypress Brewing - Insane \n\nCypress Brewing - Jersey Nor'easter \n\nCypress Brewing- Lighthouse Cafe \n\nCypress Brewing - Lighthouse Tiramisu \n\nCoors Lite\n\nForgotten Boardwalk - 1916\n\nForgotten Boardwalk - Diana\n\nIndustrial Arts - Wrench\n\nKane - Head High\n\nLawsons -  Sip of Sunshine\n\nMiller Lite\n\nWet Ticket - Brew\n\nWet Ticket - Elise\n\n \n\nFOOD:\n\nBella Ciao Pizza\n\nChocolate Moonshine Co.\n\nCousin's Maine Lobster\n\nEmpanada Beast\n\nG's Munchies\n\nHouse of Cupcakes\n\nIrie Jerk Grill\n\nLatin Bites\n\nThe Little Sicilian\n\nMaglione's Italian Ices\n\nTacos Rut 100\n\nUncle Nook Nooks Cookies\n\n\n\nWINE:\n\nRed\n\nWhite\n\nSangria\n\n\n\nVENDORS: \n\nAnita's Sweets\n\nButch's Hot Stuff Hot Sauce\n\nCarol Johnson\n\nCreations by Freita\n\nCrystals at Livy's Place\n\nDelpop Designs\n\nGymGuyz\n\nIn-Lightened Spirit: Illuminations & Healing\n\nNew York Life\n\nPM Naturals\n\nTimmy's Wings of Hope\n\nTwin's Novelties\n\nVon Dirt\n\n\n \n\n\n\nPERFORMERS:\n\n4:00 pm - 6:00 pm Nikki Briar\n\n6:00 pm - 8:00 pm The Shots\n\n8:00 pm - 10:00 pm The Wag\, Beatles Tribute Band
X-ALT-DESC;FMTTYPE=text/html:<div style="text-align: center\;"><br />\n<span style="font-family:tahoma\;"><span style="color:#00A59A\;"><span background-color:="" font-size:="" trebuchet=""><span style="font-size:16px\;"><strong><span style="font-size:18px\;">Come enjoy Edison&#39\;s </span></strong></span></span></span><span style="color:#000000\;"><span background-color:="" font-size:="" trebuchet=""><span style="font-size:16px\;"><strong><span style="font-size:18px\;">ONLY</span></strong></span></span></span><span style="color:#00A59A\;"><span background-color:="" font-size:="" trebuchet=""><span style="font-size:16px\;"><strong><span style="font-size:18px\;"> outdoor Food\, Wine\, and Beer Festival for our 6th annual event!&nbsp\;</span></strong></span></span></span><br />\n<br />\n<span style="color:#00A69B\;"><span background-color:="" font-size:="" trebuchet=""><span style="font-size:16px\;"><strong><span style="font-size:18px\;">Food trucks\, wine\, craft beer\, sangria\, live bands\, and local vendors.</span></strong></span></span></span></span><br />\n<br />\n<strong style="color: rgb(0\, 165\, 154)\; font-family: tahoma\; font-size: 16px\; text-align: center\;"><span style="font-size: 18px\;">You must be 21 to drink. Any age to eat.</span></strong><br />\n<br />\n<span style="font-family:tahoma\;"><span style="color:#00A69B\;"><strong><span style="font-size:18px\;">There are 275 on-street parking spaces.</span></strong></span></span><br />\n<br />\n<span style="color:#00A69B\;"><strong style="font-family: tahoma\; font-size: 16px\; text-align: center\;"><span style="font-size: 18px\;">Rain or Shine</span></strong></span><br />\n<br />\n&nbsp\;\n<div style="text-size-adjust: auto\; color: rgb(0\, 0\, 0)\;"><span style="font-family: tahoma\; font-size: 12pt\;"><span style="font-size:18px\;"><span style="color:#00A59A\;"><strong>BEERS:</strong></span></span></span><br />\n<span style="font-family:tahoma\;"><span style="font-size:14px\;"><strong style="font-family: Calibri\, Arial\, Helvetica\, sans-serif\; font-size: 12pt\;">Asbury Park Brewery</strong> -&nbsp\;Blonde<br />\n<strong style="font-family: Calibri\, Arial\, Helvetica\, sans-serif\; font-size: 12pt\;">Asbury Park&nbsp\;<span style="color: rgb(0\, 0\, 0)\; text-align: center\;">Brewery</span></strong> -&nbsp\; Sea Dragon<br />\n<strong style="font-family: Calibri\, Arial\, Helvetica\, sans-serif\; font-size: 12pt\;">Bonesaw Brewing</strong> - Crimson Skull Lager<br />\n<strong style="font-family: Calibri\, Arial\, Helvetica\, sans-serif\; font-size: 12pt\;">Bonesaw Brewing</strong> - LePetit Demon<br />\n<strong style="font-family: Calibri\, Arial\, Helvetica\, sans-serif\; font-size: 12pt\;">Brix City Brewing -</strong>&nbsp\;IPAs Jam Lineup<br />\n<strong>Bud Lite</strong><br />\n<strong style="font-family: Calibri\, Arial\, Helvetica\, sans-serif\; font-size: 12pt\;">Cape May Brewing</strong>&nbsp\;- Crushin it Mango<br />\n<strong style="font-family: Calibri\, Arial\, Helvetica\, sans-serif\; font-size: 12pt\;">Cape May&nbsp\;<span style="color: rgb(0\, 0\, 0)\; text-align: center\;">Brewing</span></strong>&nbsp\;- Crushin it Orange<br />\n<strong style="font-family: Calibri\, Arial\, Helvetica\, sans-serif\; font-size: 12pt\;">Carton IPA </strong>-&nbsp\;077xx<br />\n<strong style="font-family: Calibri\, Arial\, Helvetica\, sans-serif\; font-size: 12pt\;">Carton IPA</strong> -<strong style="font-family: Calibri\, Arial\, Helvetica\, sans-serif\; font-size: 12pt\;">&nbsp\;</strong>Boat<br />\n<strong>Cypress Brewing</strong><strong style="font-family: Calibri\, Arial\, Helvetica\, sans-serif\; font-size: 12pt\;"><strong>&nbsp\;</strong>-</strong> Alva<span style="background-image: initial\; background-position: initial\; background-size: initial\; background-repeat: initial\; background-attachment: initial\; background-origin: initial\; background-clip: initial\;">&nbsp\;</span><br />\n<strong style="color: rgb(0\, 0\, 0)\; text-align: center\;">Cypress Brewing</strong><strong style="font-family: Calibri\, Arial\, Helvetica\, sans-serif\; font-size: 12pt\;">&nbsp\;</strong>- Baby Insane<strong style="font-family: Calibri\, Arial\, Helvetica\, sans-serif\; font-size: 12pt\;">&nbsp\;</strong><br />\n<strong style="color: rgb(0\, 0\, 0)\; text-align: center\;">Cypress Brewing</strong> - Colosal Lime<span style="background-image: initial\; background-position: initial\; background-size: initial\; background-repeat: initial\; background-attachment: initial\; background-origin: initial\; background-clip: initial\;">&nbsp\;</span><br />\n<strong style="color: rgb(0\, 0\, 0)\; text-align: center\;">Cypress Brewing</strong><strong style="font-family: Calibri\, Arial\, Helvetica\, sans-serif\; font-size: 12pt\;"> </strong>- Insane<span style="background-image: initial\; background-position: initial\; background-size: initial\; background-repeat: initial\; background-attachment: initial\; background-origin: initial\; background-clip: initial\;">&nbsp\;</span><br />\n<strong style="color: rgb(0\, 0\, 0)\; text-align: center\;">Cypress Brewing</strong><strong style="font-family: Calibri\, Arial\, Helvetica\, sans-serif\; font-size: 12pt\;"> </strong>- Jersey Nor&#39\;easter<span style="background-image: initial\; background-position: initial\; background-size: initial\; background-repeat: initial\; background-attachment: initial\; background-origin: initial\; background-clip: initial\;">&nbsp\;</span><br />\n<strong style="color: rgb(0\, 0\, 0)\; text-align: center\;">Cypress Brewing</strong>- Lighthouse Cafe<span style="background-image: initial\; background-position: initial\; background-size: initial\; background-repeat: initial\; background-attachment: initial\; background-origin: initial\; background-clip: initial\;">&nbsp\;</span><br />\n<strong style="color: rgb(0\, 0\, 0)\; text-align: center\;">Cypress Brewing</strong><strong style="font-family: Calibri\, Arial\, Helvetica\, sans-serif\; font-size: 12pt\;">&nbsp\;-</strong> Lighthouse Tiramisu<span style="background-image: initial\; background-position: initial\; background-size: initial\; background-repeat: initial\; background-attachment: initial\; background-origin: initial\; background-clip: initial\;">&nbsp\;</span><br />\n<strong>Coors</strong> <strong>Lite</strong><br />\n<strong style="font-family: Calibri\, Arial\, Helvetica\, sans-serif\; font-size: 12pt\;">Forgotten Boardwalk</strong> -&nbsp\;1916<br />\n<strong style="font-family: Calibri\, Arial\, Helvetica\, sans-serif\; font-size: 12pt\;">Forgotten Boardwalk</strong> - Diana<br />\n<strong style="font-family: Calibri\, Arial\, Helvetica\, sans-serif\; font-size: 12pt\;">Industrial Arts</strong>&nbsp\;- Wrench<br />\n<strong style="font-family: Calibri\, Arial\, Helvetica\, sans-serif\; font-size: 12pt\;">Kane </strong>-&nbsp\;Head High<br />\n<strong style="font-family: Calibri\, Arial\, Helvetica\, sans-serif\; font-size: 12pt\;">Lawsons -&nbsp\;</strong> Sip of Sunshine<br />\n<strong>Miller</strong> <strong>Lite</strong><br />\n<strong style="font-family: Calibri\, Arial\, Helvetica\, sans-serif\; font-size: 12pt\;">Wet Ticket</strong> - Brew<br />\n<strong style="font-family: Calibri\, Arial\, Helvetica\, sans-serif\; font-size: 12pt\;">Wet Ticket </strong>- Elise</span></span><br />\n&nbsp\;</div>\n\n<div style="text-size-adjust: auto\; font-family: Calibri\, Arial\, Helvetica\, sans-serif\; font-size: 12pt\; color: rgb(0\, 0\, 0)\;"><span style="font-family:tahoma\;"><span style="color:#00A59A\;"><span style="font-size:18px\;"><b>FOOD:</b></span></span></span><br />\n<span style="font-family:tahoma\;"><span style="font-size:14px\;"><a href="https://www.facebook.com/Bellaciaopizzallc">Bella Ciao Pizza</a><br />\n<a href="https://www.chocolatemoonshine.com/">Chocolate Moonshine Co.</a><br />\n<strong><a href="https://www.cousinsmainelobster.com/" style="font-family: Calibri\, Arial\, Helvetica\, sans-serif\; font-size: 16px\; text-align: center\;">Cousin&#39\;s Maine Lobster</a></strong><br />\n<a href="https://www.empanadabeastnj.com/">Empanada Beast</a><br />\n<a href="http://www.alfonsoscateringnyc.com/">G&#39\;s Munchies</a></span></span><br />\n<span style="font-family:tahoma\;"><span style="font-size:14px\;"><a href="https://houseofcupcakes.com/">House of Cupcakes</a></span></span></div>\n\n<div style="text-size-adjust: auto\; font-family: Calibri\, Arial\, Helvetica\, sans-serif\; font-size: 12pt\; color: rgb(0\, 0\, 0)\;"><a href="https://www.instagram.com/iriejerkgrill/?i"><span style="font-family:tahoma\;"><span style="font-size:14px\;">Irie Jerk Grill</span></span></a></div>\n\n<div style="text-size-adjust: auto\; font-size: 12pt\; color: rgb(0\, 0\, 0)\;"><span style="font-family:tahoma\;"><span style="font-size: 14px\;"><a href="https://www.latinbitesnj.com/" style="font-family: Calibri\, Arial\, Helvetica\, sans-serif\;">Latin Bites</a></span></span><br />\n<span style="font-size:14px\;"><a href="https://www.facebook.com/sicilianfoodtruck/" style="font-family: Calibri\, Arial\, Helvetica\, sans-serif\;">The Little&nbsp\;</a><a href="https://thelittlesicilian.net/">Sicilian</a></span><br />\n<span style="font-family:tahoma\;"><span style="font-size: 14px\;"><a href="https://www.maglioneitalianices.com/">Maglione&#39\;s Italian Ices</a></span></span><br />\n<span style="color: rgb(0\, 0\, 0)\; font-size: 16px\; text-align: center\; font-family: tahoma\;"><span style="font-size: 14px\;">Tacos Rut 100</span></span><br />\n<span style="font-family:tahoma\;"><span style="font-size: 14px\;"><a href="https://www.unclenooknookscookies.com/">Uncle Nook Nooks Cookies</a></span></span><br />\n<br />\n<strong style="font-family: tahoma\; color: rgb(0\, 165\, 154)\; font-size: 18px\; text-align: center\;">WINE:</strong><br />\n<span style="font-family: Calibri\, Arial\, Helvetica\, sans-serif\; font-size: 14px\;"><span style="font-family:tahoma\;">Red<br />\nWhite<br />\nSangria</span></span><br />\n<br />\n<span style="font-family: tahoma\;"><span style="color:#00A59A\;"><span style="font-size:18px\;"><b>VENDORS:&nbsp\;</b></span></span></span><br />\n<span style="font-family: Calibri\, Arial\, Helvetica\, sans-serif\; font-size: 14px\;"><span style="font-family:tahoma\;">Anita&#39\;s Sweets<br />\n<a href="https://butchshotstuffhotsauce.com/">Butch&#39\;s Hot Stuff Hot Sauce</a><br />\nCarol Johnson<br />\n<a href="https://www.facebook.com/profile.php?id=100093145351617&amp\;mibextid=ZbWKwL">Creations by Freita</a><br />\n<a href="https://www.instagram.com/crystalsatlivysplace/">Crystals at Livy&#39\;s Place</a><br />\n<a href="https://linktr.ee/delpopdesigns"><span style="color: rgb(0\, 0\, 0)\; text-align: center\;">Delpop Designs</span></a><br />\n<a href="https://www.gymguyz.com/">GymGuyz</a></span></span><br />\n<a href="https://www.facebook.com/profile.php?id=100085122535933"><span style="font-family:tahoma\;"><span style="color: rgb(85\, 85\, 85)\; font-size: 14px\;">In-Lightened Spirit: Illuminations &amp\; Healing</span></span></a><br />\n<span style="font-family: Calibri\, Arial\, Helvetica\, sans-serif\; font-size: 14px\;"><span style="font-family:tahoma\;"><a href="https://www.newyorklife.com/">New York Life</a><br />\n<a href="https://www.pmnaturals4u.com/">PM Naturals</a><br />\n<a href="https://timmyswingsofhope.com/">Timmy&#39\;s Wings of Hope</a><br />\nTwin&#39\;s Novelties<br />\n<a href="https://www.facebook.com/Vondirt420/">Von Dirt</a></span></span></div>\n\n<div style="text-size-adjust: auto\; font-family: Calibri\, Arial\, Helvetica\, sans-serif\; font-size: 12pt\; color: rgb(0\, 0\, 0)\;">\n<div style="text-align: center\; text-size-adjust: auto\; font-family: Calibri\, Arial\, Helvetica\, sans-serif\; font-size: 12pt\; color: rgb(0\, 0\, 0)\;">&nbsp\;</div>\n</div>\n\n<div style="text-size-adjust: auto\; font-size: 12pt\; color: rgb(0\, 0\, 0)\;">\n<div style="text-align: center\; text-size-adjust: auto\; font-size: 12pt\; color: rgb(0\, 0\, 0)\;"><span style="font-family: tahoma\;"><span style="color:#00A59A\;"><span style="font-size: 18px\;"><b>PERFORMERS:</b></span></span></span><br />\n<span style="font-family:tahoma\;"><span style="font-size:14px\;">4:00 pm - 6:00 pm&nbsp\;<a href="https://www.nikkibriar.com/">Nikki Briar</a><br />\n6:00 pm - 8:00 pm&nbsp\;<a href="https://www.facebook.com/ShotsBand/">The Shots</a><br />\n8:00 pm - 10:00 pm&nbsp\;<a href="https://www.facebook.com/thewagband">The Wag\, Beatles Tribute Band</a></span></span></div>\n</div>\n\n<div style="text-size-adjust: auto\; font-family: Calibri\, Arial\, Helvetica\, sans-serif\; font-size: 12pt\; color: rgb(0\, 0\, 0)\;">&nbsp\;</div>\n\n<div style="text-size-adjust: auto\; font-family: Calibri\, Arial\, Helvetica\, sans-serif\; font-size: 12pt\; color: rgb(0\, 0\, 0)\;">&nbsp\;</div>\n</div>\n
LOCATION:926 Amboy Ave Edison\, NJ 08837
UID:e.2325.3992
SEQUENCE:3
DTSTAMP:20260423T083235Z
URL:https://www.edisonchamber.com/events/details/2023-food-wine-and-beer-festival-8-19-2023-3992
END:VEVENT

END:VCALENDAR
