BEGIN:VCALENDAR
VERSION:2.0
PRODID:-//ChamberMaster//Event Calendar 2.0//EN
METHOD:PUBLISH
X-PUBLISHED-TTL:P3D
REFRESH-INTERVAL:P3D
CALSCALE:GREGORIAN
BEGIN:VEVENT
DTSTART:20190122T160000Z
DTEND:20190122T190000Z
X-MICROSOFT-CDO-ALLDAYEVENT:FALSE
SUMMARY:2019 Economic Forum 1/22/2019
DESCRIPTION:The 2019 Economic Forum and Speaker Panel\n\n\n\n \n\n\nUnderstand How Trends in Finance\, Public Policy & Real Estate Will Impact Your Business in 2019\n\n\n\np.p1 {margin: 0.0px 0.0px 0.0px 0.0px\; font: 13.0px Helvetica} p.p2 {margin: 0.0px 0.0px 0.0px 0.0px\; font: 15.0px Helvetica\; color: #ac0008}\n\n\n\nThe panel will include an Economist from Rutgers University\, experts in Commercial Real Estate\, Tax law\, regulatory changes\, and a dignitary economic development.\n\n \n\n\nThis will be an exclusive event with Investors Bank as the sponsor.\n\n \n\n\n\n\n \n\n\n\nFeatured Speaker:\n\nChairman\, and CEO of Investor's Bank Kevin Cummings.\n\n\n\n \n\n\n\nSpeaker Panel:\n\n\n\nWalter Brasch\, past President of the CPA Society\n\n\n\nJames W. Hughes\, Ph.D.\, University Professor\, Distinguished Professor and Dean Emeritus of the Edward J. Bloustein School of Planning and Public Policy\, at Rutgers\, The State University of New Jersey.\n\n\n\nIlene Horowitz\, ABR\, AHWD\, President of New Jersey Realtors\n\n\n\n\nJarrod C. Grasso\, RCE\, Chief Executive Officer of New Jersey Realtors\n\np.p1 {margin: 0.0px 0.0px 0.0px 0.0px\; font: 12.0px Helvetica}\n\nModerator:\n\nFrank Lucchesi\, PSEG Regional Public Affairs Manager\n\n\n \n \n\np.p1 {margin: 0.0px 0.0px 0.0px 0.0px\; font: 44.0px Helvetica}
X-ALT-DESC;FMTTYPE=text/html:<div color:="" data-block="true" data-editor="44qf5" data-offset-key="422i2-0-0" font-size:="" style="font-family: system-ui\, -apple-system\, system-ui\, " white-space:="">\n<div class="_1mf _1mj" data-offset-key="422i2-0-0" style="position: relative\; direction: ltr\; font-family: inherit\;">\n<div style="text-align: center\;"><br />\n<span style="font-size:18px\;"><span style="font-family:tahoma\;"><span data-offset-key="422i2-0-0"><strong>The&nbsp\;</strong><strong>2019 Economic Forum&nbsp\;</strong><strong>and Speaker Panel</strong></span></span></span><br />\n<br />\n&nbsp\;</div>\n\n<div class="p1">\n<div style="text-align: center\;"><span style="font-family:tahoma\;"><span style="font-size:16px\;"><strong>Understand How Trends in&nbsp\;Finance\, Public Policy &amp\; Real Estate&nbsp\;Will Impact Your Business in 2019</strong></span></span><br />\n<br />\n<style type="text/css">p.p1 {margin: 0.0px 0.0px 0.0px 0.0px\; font: 13.0px Helvetica} p.p2 {margin: 0.0px 0.0px 0.0px 0.0px\; font: 15.0px Helvetica\; color: #ac0008}\n</style>\n</div>\n\n<p class="p1" style="text-align: center\;"><span style="font-family:tahoma\;"><span style="font-size:16px\;">The panel will include an Economist from Rutgers University\, experts in Commercial Real Estate\, Tax law\, regulatory changes\, and a dignitary economic development.</span></span><br />\n&nbsp\;</p>\n</div>\n\n<div style="text-align: center\;"><span style="font-family:tahoma\;"><span style="font-size:16px\;"><span data-offset-key="422i2-0-0">This will be an exclusive event with <strong>Investors Bank </strong>as the&nbsp\;sponsor.</span></span></span><br />\n&nbsp\;</div>\n</div>\n</div>\n\n<div color:="" data-block="true" data-editor="44qf5" data-offset-key="lfbs-0-0" font-size:="" style="font-family: system-ui\, -apple-system\, system-ui\, " white-space:="">\n<div class="_1mf _1mj" data-offset-key="lfbs-0-0" style="position: relative\; direction: ltr\; font-family: inherit\; text-align: center\;">&nbsp\;</div>\n</div>\n\n<div color:="" data-block="true" data-editor="44qf5" data-offset-key="385gc-0-0" font-size:="" style="font-family: system-ui\, -apple-system\, system-ui\, " white-space:="">\n<div class="_1mf _1mj" data-offset-key="385gc-0-0" style="position: relative\; direction: ltr\; font-family: inherit\; text-align: center\;"><span style="font-family:tahoma\;"><span style="font-size:16px\;"><span data-offset-key="385gc-0-0"><span style="font-size:18px\;"><strong>Featured Speaker:</strong></span><br />\nChairman\, and CEO of Investor&#39\;s Bank Kevin Cummings.</span></span></span></div>\n</div>\n\n<div color:="" data-block="true" data-editor="44qf5" data-offset-key="6jafo-0-0" font-size:="" style="font-family: system-ui\, -apple-system\, system-ui\, " white-space:="">\n<div class="_1mf _1mj" data-offset-key="6jafo-0-0" style="position: relative\; direction: ltr\; font-family: inherit\; text-align: center\;">&nbsp\;</div>\n</div>\n\n<div color:="" data-block="true" data-editor="44qf5" data-offset-key="39cfv-0-0" font-size:="" style="font-family: system-ui\, -apple-system\, system-ui\, " white-space:="">\n<div class="_1mf _1mj" data-offset-key="39cfv-0-0" style="position: relative\; direction: ltr\; font-family: inherit\; text-align: center\;"><span style="font-size:18px\;"><span style="font-family:tahoma\;"><strong><span data-offset-key="39cfv-0-0">Speaker Panel:</span></strong></span></span></div>\n</div>\n\n<div color:="" data-block="true" data-editor="44qf5" data-offset-key="aug3a-0-0" font-size:="" style="font-family: system-ui\, -apple-system\, system-ui\, " white-space:="">\n<div class="_1mf _1mj" data-offset-key="aug3a-0-0" style="position: relative\; direction: ltr\; font-family: inherit\; text-align: center\;"><span style="font-family:tahoma\;"><span style="font-size:16px\;"><span data-offset-key="aug3a-0-0"><strong>Walter Brasch\, </strong>past President of the CPA Society</span></span></span></div>\n</div>\n\n<div color:="" data-block="true" data-editor="44qf5" data-offset-key="41hv0-0-0" font-size:="" style="font-family: system-ui\, -apple-system\, system-ui\, " white-space:="">\n<div class="_1mf _1mj" data-offset-key="41hv0-0-0" style="position: relative\; direction: ltr\; font-family: inherit\; text-align: center\;"><span style="font-family:tahoma\;"><span style="font-size:16px\;"><span data-offset-key="41hv0-0-0"><strong>James W. Hughes\, Ph.D.\,</strong> University Professor\, Distinguished Professor and Dean Emeritus of the Edward J. Bloustein School of Planning and Public Policy\, at Rutgers\, The State University of New Jersey.</span></span></span></div>\n</div>\n\n<div color:="" data-block="true" data-editor="44qf5" data-offset-key="5k2du-0-0" font-size:="" style="font-family: system-ui\, -apple-system\, system-ui\, " white-space:="">\n<div class="_1mf _1mj" data-offset-key="5k2du-0-0" style="position: relative\; direction: ltr\; font-family: inherit\; text-align: center\;"><span style="font-family:tahoma\;"><span style="font-size:16px\;"><span data-offset-key="5k2du-0-0"><strong>Ilene Horowitz\, ABR\, AHWD</strong>\, President of New Jersey Realtors</span></span></span></div>\n</div>\n\n<div color:="" data-block="true" data-editor="44qf5" data-offset-key="96pm7-0-0" font-size:="" style="font-family: system-ui\, -apple-system\, system-ui\, " white-space:="">\n<div class="_1mf _1mj" data-offset-key="96pm7-0-0" style="position: relative\; direction: ltr\; font-family: inherit\;">\n<div style="text-align: center\;"><span style="font-family:tahoma\;"><span style="font-size:16px\;"><span data-offset-key="96pm7-0-0"><strong>Jarrod C. Grasso\, RCE\,</strong> Chief Executive Officer of New Jersey Realtors</span></span></span><br />\n<style type="text/css">p.p1 {margin: 0.0px 0.0px 0.0px 0.0px\; font: 12.0px Helvetica}\n</style>\n<p class="p1"><span style="font-size:16px\;"><span style="font-family:tahoma\;"><span style="font-size:18px\;"><strong>Moderator:</strong></span><br />\n<strong>Frank Lucchesi</strong>\, PSEG Regional Public Affairs Manager</span></span></p>\n</div>\n\n<p class="p1" style="font-size: 15px\; color: rgb(172\, 0\, 8)\; text-align: center\;">&nbsp\;</p>\n<span style="display: none\;">&nbsp\;</span></div>\n</div>\n<style type="text/css">p.p1 {margin: 0.0px 0.0px 0.0px 0.0px\; font: 44.0px Helvetica}\n</style>\n
LOCATION:Pines Manor 2085 Route 27 Edison\, NJ
UID:e.2325.3007
SEQUENCE:3
DTSTAMP:20260422T051320Z
URL:https://www.edisonchamber.com/events/details/2019-economic-forum-1-22-2019-3007
END:VEVENT

END:VCALENDAR
