BEGIN:VCALENDAR
VERSION:2.0
PRODID:-//ChamberMaster//Event Calendar 2.0//EN
METHOD:PUBLISH
X-PUBLISHED-TTL:P3D
REFRESH-INTERVAL:P3D
CALSCALE:GREGORIAN
BEGIN:VEVENT
DTSTART:20200813T180000Z
DTEND:20200813T193000Z
X-MICROSOFT-CDO-ALLDAYEVENT:FALSE
SUMMARY:$10k in 90 Minutes: Business Strategies You Can Use To Increase Your Revenue Today - 8/13/2020
DESCRIPTION:Tired of trying to figure out everything you need to know to grow your business without guidance and support? Join speaker and small business strategist Jessi Beyer for a free 90-minute business development workshop. In this interactive workshop\, you will learn:\n\n	The five areas you should be focusing on in your business so you can finally cut the overwhelm and confusion\n	The two fundamentals of marketing that 90% of businesses are completely missing\n	Eight no-cost strategies you can implement today to increase your leads\, conversions\, and revenue\n	Why financial growth is actually secondary to time freedom (and how a systematization of your business can help you achieve both)\n\nSpeaker: Jessi Beyer is a speaker\, #1 best-selling author\, and small business strategist. She has been featured in dozens of media outlets\, including Best Company\, Thrive Global\, and GoBankingRates\, and has spoken to thousands of people across the country through groups like Fairgodboss\, Leadercast NOW\, and the WomenTech Global Conference.\n\n\n\nRegister Here:
X-ALT-DESC;FMTTYPE=text/html:<span style="font-size:16px\;"><span style="font-family:tahoma\;">Tired of trying to figure out everything you need to know to grow your business without guidance and support? Join speaker and small business strategist Jessi Beyer for a free 90-minute business development workshop. In this interactive workshop\, you will learn:</span></span>\n<ul>\n	<li style="font-size:12pt\;font-family:Calibri\, sans-serif\;"><span style="font-size:16px\;"><span style="font-family:tahoma\;">The five areas you should be focusing on in your business so you can finally cut the overwhelm and confusion</span></span></li>\n	<li style="font-size:12pt\;font-family:Calibri\, sans-serif\;"><span style="font-size:16px\;"><span style="font-family:tahoma\;">The two fundamentals of marketing that 90% of businesses are completely missing</span></span></li>\n	<li style="font-size:12pt\;font-family:Calibri\, sans-serif\;"><span style="font-size:16px\;"><span style="font-family:tahoma\;">Eight no-cost strategies you can implement today to increase your leads\, conversions\, and revenue</span></span></li>\n	<li style="font-size:12pt\;font-family:Calibri\, sans-serif\;"><span style="font-size:16px\;"><span style="font-family:tahoma\;">Why financial growth is actually secondary to time freedom (and how a systematization of your business can help you achieve both)</span></span></li>\n</ul>\n<span style="font-size:14px\;"><span style="font-family:tahoma\;"><strong>Speaker</strong>: Jessi Beyer is a speaker\, #1 best-selling author\, and small business strategist. She has been featured in dozens of media outlets\, including Best Company\, Thrive Global\, and GoBankingRates\, and has spoken to thousands of people across the country through groups like Fairgodboss\, Leadercast NOW\, and the WomenTech Global Conference.<br />\n<br />\n<strong><span style="color:#B22222\;"><span style="font-size:18px\;">Register Here:&nbsp\;</span></span></strong></span></span><span style="font-size:18px\;"><input class="_58al" placeholder="Add a link to your ticketing website" style="background-image: initial\; background-position: initial\; background-size: initial\; background-repeat: initial\; background-attachment: initial\; background-origin: initial\; background-clip: initial\; font-family: inherit\; font-size: 12px\; border-width: 0px\; border-style: initial\; border-color: initial\; margin: 0px\; outline: 0px\; padding: 0px\; width: calc(100% - 84px)\;" type="text" value="https://register.gotowebinar.com/register/8944988195868675598" /></span>
LOCATION:Webinar
UID:e.2325.3374
SEQUENCE:3
DTSTAMP:20260421T154658Z
URL:https://www.edisonchamber.com/events/details/10k-in-90-minutes-business-strategies-you-can-use-to-increase-your-revenue-today-8-13-2020-3374
END:VEVENT

END:VCALENDAR
